BEGIN:VCALENDAR
VERSION:2.0
PRODID:-//GeoForum - ECPv6.10.0//NONSGML v1.0//EN
CALSCALE:GREGORIAN
METHOD:PUBLISH
X-ORIGINAL-URL:https://geoforum.no
X-WR-CALDESC:Arrangement for GeoForum
REFRESH-INTERVAL;VALUE=DURATION:PT1H
X-Robots-Tag:noindex
X-PUBLISHED-TTL:PT1H
BEGIN:VTIMEZONE
TZID:Europe/Oslo
BEGIN:DAYLIGHT
TZOFFSETFROM:+0100
TZOFFSETTO:+0200
TZNAME:CEST
DTSTART:20210328T010000
END:DAYLIGHT
BEGIN:STANDARD
TZOFFSETFROM:+0200
TZOFFSETTO:+0100
TZNAME:CET
DTSTART:20211031T010000
END:STANDARD
END:VTIMEZONE
BEGIN:VEVENT
DTSTART;TZID=Europe/Oslo:20211130T093000
DTEND;TZID=Europe/Oslo:20211201T143000
DTSTAMP:20260420T165340
CREATED:20210818T114848Z
LAST-MODIFIED:20220103T083849Z
UID:10011468-1638264600-1638369000@geoforum.no
SUMMARY:Plan\, bygg geodata - Kommunal geomatikkonferanse 2021
DESCRIPTION:Vi møtes på Thon hotel Arena\, Lillestrøm  30. november – 1. desember. \nVelkommen til konferansen for planleggere\, byggesaksbehandlere og geomatikere og landmålere! \nTakket være kompetansemidler  fra Kommunal- og moderniseringsdepartementet kan vi tilby gratis deltakelse for flere planleggere og byggesaksbehandlere. \nProgram \n  \n  \n 
URL:https://geoforum.no/event/plan-bygg-geodata-kommunal-geomatikkonferanse/
CATEGORIES:Konferanse
END:VEVENT
END:VCALENDAR