BEGIN:VCALENDAR
VERSION:2.0
PRODID:-//GeoForum - ECPv6.10.0//NONSGML v1.0//EN
CALSCALE:GREGORIAN
METHOD:PUBLISH
X-WR-CALNAME:GeoForum
X-ORIGINAL-URL:https://geoforum.no
X-WR-CALDESC:Arrangement for GeoForum
REFRESH-INTERVAL;VALUE=DURATION:PT1H
X-Robots-Tag:noindex
X-PUBLISHED-TTL:PT1H
BEGIN:VTIMEZONE
TZID:Europe/Oslo
BEGIN:DAYLIGHT
TZOFFSETFROM:+0100
TZOFFSETTO:+0200
TZNAME:CEST
DTSTART:20210328T010000
END:DAYLIGHT
BEGIN:STANDARD
TZOFFSETFROM:+0200
TZOFFSETTO:+0100
TZNAME:CET
DTSTART:20211031T010000
END:STANDARD
END:VTIMEZONE
BEGIN:VEVENT
DTSTART;TZID=Europe/Oslo:20211108T100000
DTEND;TZID=Europe/Oslo:20211109T153000
DTSTAMP:20260420T180824
CREATED:20210813T132417Z
LAST-MODIFIED:20210813T132417Z
UID:10011467-1636365600-1636471800@geoforum.no
SUMMARY:NoIS inviterer til ISY-dagene
DESCRIPTION:ISY-dagene er NoIS tradisjonsrike brukermøte og arrangeres i år 8.-9. november. De har arrangert brukermøter hvert eneste år siden 90-tallet og ser verdien av å treffe kunder og ønsker å gi sine brukere mulighet til å utveksle erfaringer med hverandre. \nMer informasjon på NoIS.no
URL:https://geoforum.no/event/nois-inviterer-til-isy-dagene/
LOCATION:Clarion Hotel & Congress Trondheim\, Trondheim
CATEGORIES:Eksterne kurs og konferanser
END:VEVENT
END:VCALENDAR