BEGIN:VCALENDAR
VERSION:2.0
PRODID:-//GeoForum - ECPv6.10.0//NONSGML v1.0//EN
CALSCALE:GREGORIAN
METHOD:PUBLISH
X-WR-CALNAME:GeoForum
X-ORIGINAL-URL:https://geoforum.no
X-WR-CALDESC:Arrangement for GeoForum
REFRESH-INTERVAL;VALUE=DURATION:PT1H
X-Robots-Tag:noindex
X-PUBLISHED-TTL:PT1H
BEGIN:VTIMEZONE
TZID:Europe/Oslo
BEGIN:DAYLIGHT
TZOFFSETFROM:+0100
TZOFFSETTO:+0200
TZNAME:CEST
DTSTART:20210328T010000
END:DAYLIGHT
BEGIN:STANDARD
TZOFFSETFROM:+0200
TZOFFSETTO:+0100
TZNAME:CET
DTSTART:20211031T010000
END:STANDARD
END:VTIMEZONE
BEGIN:VEVENT
DTSTART;TZID=Europe/Oslo:20211025T090000
DTEND;TZID=Europe/Oslo:20211026T150000
DTSTAMP:20260420T210437
CREATED:20190121T122931Z
LAST-MODIFIED:20211022T083203Z
UID:10011310-1635152400-1635260400@geoforum.no
SUMMARY:Eiendomskonferansen 2021
DESCRIPTION:GeoForum Hordaland inviterer til Eiendomskonferansen 2021! \noppdatert program Eiendomskonferansen 21 \nPåmelding
URL:https://geoforum.no/event/eiendomskonferansen-2021/
CATEGORIES:Lokale geomatikkdager
END:VEVENT
BEGIN:VEVENT
DTSTART;TZID=Europe/Oslo:20211026T090000
DTEND;TZID=Europe/Oslo:20211026T113000
DTSTAMP:20260420T210437
CREATED:20210928T093650Z
LAST-MODIFIED:20220225T105441Z
UID:10011477-1635238800-1635247800@geoforum.no
SUMMARY:Webinar om Ledningsregistreringsforskriften
DESCRIPTION:GeoForum og Kartverket inviterer til gratis webinar om Ledningsregistreringsforskriften! \nProgram \nPåmelding
URL:https://geoforum.no/event/webinar-om-ledningsregistreringsforskriften/
CATEGORIES:Seminar
END:VEVENT
END:VCALENDAR