BEGIN:VCALENDAR
VERSION:2.0
PRODID:-//GeoForum - ECPv6.10.0//NONSGML v1.0//EN
CALSCALE:GREGORIAN
METHOD:PUBLISH
X-WR-CALNAME:GeoForum
X-ORIGINAL-URL:https://geoforum.no
X-WR-CALDESC:Arrangement for GeoForum
REFRESH-INTERVAL;VALUE=DURATION:PT1H
X-Robots-Tag:noindex
X-PUBLISHED-TTL:PT1H
BEGIN:VTIMEZONE
TZID:Europe/Oslo
BEGIN:DAYLIGHT
TZOFFSETFROM:+0100
TZOFFSETTO:+0200
TZNAME:CEST
DTSTART:20210328T010000
END:DAYLIGHT
BEGIN:STANDARD
TZOFFSETFROM:+0200
TZOFFSETTO:+0100
TZNAME:CET
DTSTART:20211031T010000
END:STANDARD
END:VTIMEZONE
BEGIN:VEVENT
DTSTART;VALUE=DATE:20211018
DTEND;VALUE=DATE:20211020
DTSTAMP:20260420T203839
CREATED:20210120T110614Z
LAST-MODIFIED:20210120T110614Z
UID:10011430-1634515200-1634687999@geoforum.no
SUMMARY:Norkart Brukermøte – Plan og geodata 2021
DESCRIPTION:Norkart inviterer til brukermøte på Miklagard Hotel ved Kløfta. \nMer informasjon finner dere her
URL:https://geoforum.no/event/norkart-brukermote-plan-og-geodata-2021/
CATEGORIES:Eksterne kurs og konferanser
END:VEVENT
BEGIN:VEVENT
DTSTART;TZID=Europe/Oslo:20211018T080000
DTEND;TZID=Europe/Oslo:20211019T140000
DTSTAMP:20260420T203839
CREATED:20210802T081011Z
LAST-MODIFIED:20210827T064521Z
UID:10011464-1634544000-1634652000@geoforum.no
SUMMARY:Den Kloke Teknologi 2021
DESCRIPTION:BA-bransjens innovasjonskonferanse arrangeres i år 18.-19. oktober på Clarion The Hub i Oslo. \nProgrammet er klart – se det og all relevant informasjon om konferansen her: https://www.denkloketeknologi.no/ \n  \n  \n 
URL:https://geoforum.no/event/den-kloke-teknologi-2021/
CATEGORIES:Konferanse
END:VEVENT
END:VCALENDAR