BEGIN:VCALENDAR
VERSION:2.0
PRODID:-//GeoForum - ECPv6.10.0//NONSGML v1.0//EN
CALSCALE:GREGORIAN
METHOD:PUBLISH
X-WR-CALNAME:GeoForum
X-ORIGINAL-URL:https://geoforum.no
X-WR-CALDESC:Arrangement for GeoForum
REFRESH-INTERVAL;VALUE=DURATION:PT1H
X-Robots-Tag:noindex
X-PUBLISHED-TTL:PT1H
BEGIN:VTIMEZONE
TZID:Europe/Oslo
BEGIN:DAYLIGHT
TZOFFSETFROM:+0100
TZOFFSETTO:+0200
TZNAME:CEST
DTSTART:20210328T010000
END:DAYLIGHT
BEGIN:STANDARD
TZOFFSETFROM:+0200
TZOFFSETTO:+0100
TZNAME:CET
DTSTART:20211031T010000
END:STANDARD
END:VTIMEZONE
BEGIN:VEVENT
DTSTART;TZID=Europe/Oslo:20211013T093000
DTEND;TZID=Europe/Oslo:20211014T150000
DTSTAMP:20260420T192856
CREATED:20210810T140401Z
LAST-MODIFIED:20220227T143907Z
UID:10011466-1634117400-1634223600@geoforum.no
SUMMARY:Fagdag om Plan- og bygningsloven
DESCRIPTION:GeoForum Buskerud og GeoForum sentralt inviterer til fagdager om Plan- og bygningslovens bestemmelser. \nVi har vært så heldige å få med oss juristene Fredrik Holth og Nikolai K. Winge som foredragsholdere. \n  \nTema 13. oktober: Dele- og byggesaksbehandling\, dispensasjoner og matrikkelloven som viktige rettslige rammer for delingssaker \nTema 14. oktober: Hvor står lovgivningen når det kommer til forebygging\, utredning og ansvar av farer som flom\, skred og ras. \nProgram \nPåmelding \nDet er fremdeles mulig å melde seg på. Påmeldingsfristen er utsatt til 01. oktober. Det er 100 påmeldt den 17. september og det er plass til flere. \nDe som ønsker å overnatte bestiller og betaler selv hotell. \nScandic Ambassadeur Drammen. Pris for enkeltrom kr 1 240. Benytt linken www.scandichotels.com\,  legg inn bookingkode BGEO121021. \nQuality Hotel River Station\, enkeltrom kr 1 145 bestilles på q.riverstation@choice.no oppgi kode 4229 \n  \nEr det flere som overnatter organiserer vi en felles middag. Pris for middag kommer da i tillegg. \nMer informasjon i programmet. \nFagdagene arrangeres i tråd med de til enhver tid gjeldende myndighetskrav. Romslige lokaler på Union Scene gjør det enkelt å holde god avstand.
URL:https://geoforum.no/event/fagdag-om-plan-og-bygningslovens-regler/
LOCATION:Drammen
CATEGORIES:Kurs
END:VEVENT
END:VCALENDAR