BEGIN:VCALENDAR
VERSION:2.0
PRODID:-//GeoForum - ECPv6.10.0//NONSGML v1.0//EN
CALSCALE:GREGORIAN
METHOD:PUBLISH
X-WR-CALNAME:GeoForum
X-ORIGINAL-URL:https://geoforum.no
X-WR-CALDESC:Arrangement for GeoForum
REFRESH-INTERVAL;VALUE=DURATION:PT1H
X-Robots-Tag:noindex
X-PUBLISHED-TTL:PT1H
BEGIN:VTIMEZONE
TZID:Europe/Oslo
BEGIN:DAYLIGHT
TZOFFSETFROM:+0100
TZOFFSETTO:+0200
TZNAME:CEST
DTSTART:20210328T010000
END:DAYLIGHT
BEGIN:STANDARD
TZOFFSETFROM:+0200
TZOFFSETTO:+0100
TZNAME:CET
DTSTART:20211031T010000
END:STANDARD
END:VTIMEZONE
BEGIN:VEVENT
DTSTART;TZID=Europe/Oslo:20210921T090000
DTEND;TZID=Europe/Oslo:20210922T143000
DTSTAMP:20260420T221056
CREATED:20210301T072734Z
LAST-MODIFIED:20210816T092205Z
UID:10011439-1632214800-1632321000@geoforum.no
SUMMARY:Geomatikkdagene 2021
DESCRIPTION:Geomatikkdagene 2021 arrangeres som digital konferanse 21. og 22. september. \nDet vil bli rundt 60 foredrag på en ny og unik konferanseplattform. Deltakere får tilgang til opptak av alle foredragene etter konferansens slutt. \nRevidert program er klart i løpet av uke 33. \nAll informasjon om Geomatikkdagene finner dere på www.geomatikkdagene.no  \nPåmelding
URL:https://geoforum.no/event/geomatikkdagene-2021/
CATEGORIES:Konferanse
END:VEVENT
END:VCALENDAR