BEGIN:VCALENDAR
VERSION:2.0
PRODID:-//GeoForum - ECPv6.10.0//NONSGML v1.0//EN
CALSCALE:GREGORIAN
METHOD:PUBLISH
X-WR-CALNAME:GeoForum
X-ORIGINAL-URL:https://geoforum.no
X-WR-CALDESC:Arrangement for GeoForum
REFRESH-INTERVAL;VALUE=DURATION:PT1H
X-Robots-Tag:noindex
X-PUBLISHED-TTL:PT1H
BEGIN:VTIMEZONE
TZID:Europe/Oslo
BEGIN:DAYLIGHT
TZOFFSETFROM:+0100
TZOFFSETTO:+0200
TZNAME:CEST
DTSTART:20210328T010000
END:DAYLIGHT
BEGIN:STANDARD
TZOFFSETFROM:+0200
TZOFFSETTO:+0100
TZNAME:CET
DTSTART:20211031T010000
END:STANDARD
END:VTIMEZONE
BEGIN:VEVENT
DTSTART;TZID=Europe/Oslo:20210506T130000
DTEND;TZID=Europe/Oslo:20210506T150000
DTSTAMP:20260421T023805
CREATED:20210126T121135Z
LAST-MODIFIED:20210311T101200Z
UID:10011432-1620306000-1620313200@geoforum.no
SUMMARY:GeoTek 2021
DESCRIPTION:Geodata AS arrangerer GeoTek 2021: Gratis minikonferanse om geografiske data og teknologi! \nDirekte fra Geodata på Grønland i Oslo får du to velfylte timer med variert innhold. Det blir en blanding av teknologinerding\, strategiske prater og inspirasjon. Siste nytt og aktuelle temaer. \nDu finner mer informasjon om GeoTek her \n  \n 
URL:https://geoforum.no/event/geodata-arrangerer-geotek-2021/
CATEGORIES:Eksterne kurs og konferanser
END:VEVENT
END:VCALENDAR