BEGIN:VCALENDAR
VERSION:2.0
PRODID:-//GeoForum - ECPv6.10.0//NONSGML v1.0//EN
CALSCALE:GREGORIAN
METHOD:PUBLISH
X-WR-CALNAME:GeoForum
X-ORIGINAL-URL:https://geoforum.no
X-WR-CALDESC:Arrangement for GeoForum
REFRESH-INTERVAL;VALUE=DURATION:PT1H
X-Robots-Tag:noindex
X-PUBLISHED-TTL:PT1H
BEGIN:VTIMEZONE
TZID:Europe/Oslo
BEGIN:DAYLIGHT
TZOFFSETFROM:+0100
TZOFFSETTO:+0200
TZNAME:CEST
DTSTART:20210328T010000
END:DAYLIGHT
BEGIN:STANDARD
TZOFFSETFROM:+0200
TZOFFSETTO:+0100
TZNAME:CET
DTSTART:20211031T010000
END:STANDARD
END:VTIMEZONE
BEGIN:VEVENT
DTSTART;TZID=Europe/Oslo:20210429T090000
DTEND;TZID=Europe/Oslo:20210429T120000
DTSTAMP:20260421T023722
CREATED:20210223T140202Z
LAST-MODIFIED:20210322T134636Z
UID:10011438-1619686800-1619697600@geoforum.no
SUMMARY:Blågrønn faktor
DESCRIPTION:Blågrønn faktor er et verktøy for kvantifisering av vegetasjon og vannelementer i byggesaker. Dette bidrar til uterom tilrettelagt for vannhåndtering\, vegetasjon og biodiversitet. \nNorsk Standard for blågrønn faktor skal bidra til gode\, klimatilpassede uterom med vegetasjon og vann. Bak standarden står en bredt sammensatt komité av eksperter fra grøntanleggs- og byggebransjen. \nMer informasjon kommer.
URL:https://geoforum.no/event/blagronn-faktor/
CATEGORIES:Seminar
END:VEVENT
END:VCALENDAR