BEGIN:VCALENDAR
VERSION:2.0
PRODID:-//GeoForum - ECPv6.10.0//NONSGML v1.0//EN
CALSCALE:GREGORIAN
METHOD:PUBLISH
X-ORIGINAL-URL:https://geoforum.no
X-WR-CALDESC:Arrangement for GeoForum
REFRESH-INTERVAL;VALUE=DURATION:PT1H
X-Robots-Tag:noindex
X-PUBLISHED-TTL:PT1H
BEGIN:VTIMEZONE
TZID:Europe/Oslo
BEGIN:DAYLIGHT
TZOFFSETFROM:+0100
TZOFFSETTO:+0200
TZNAME:CEST
DTSTART:20210328T010000
END:DAYLIGHT
BEGIN:STANDARD
TZOFFSETFROM:+0200
TZOFFSETTO:+0100
TZNAME:CET
DTSTART:20211031T010000
END:STANDARD
END:VTIMEZONE
BEGIN:VEVENT
DTSTART;TZID=Europe/Oslo:20210409T100000
DTEND;TZID=Europe/Oslo:20210409T104500
DTSTAMP:20260421T050951
CREATED:20210324T083120Z
LAST-MODIFIED:20210324T083121Z
UID:10011452-1617962400-1617965100@geoforum.no
SUMMARY:Gratis webinar: Ta riktige beslutninger med mobilitetsdata
DESCRIPTION:Geodata as inviterer til gratis webinar! \nBefolkningsflyt er en viktig nøkkel for å forstå hvordan et område blir brukt og hvordan vi forflytter oss. Ved hjelp av mobilitetsdata kan vi enkelt få en oppdatert oversikt over folks bevegelse i samfunnet. \nWebinaret gjennomføres 09. april fra 10.00-10.45 \nLes mer og meld deg på her
URL:https://geoforum.no/event/gratis-webinar-ta-riktige-beslutninger-med-mobilitetsdata/
CATEGORIES:Webinar eksternt
END:VEVENT
END:VCALENDAR