BEGIN:VCALENDAR
VERSION:2.0
PRODID:-//GeoForum - ECPv6.10.0//NONSGML v1.0//EN
CALSCALE:GREGORIAN
METHOD:PUBLISH
X-ORIGINAL-URL:https://geoforum.no
X-WR-CALDESC:Arrangement for GeoForum
REFRESH-INTERVAL;VALUE=DURATION:PT1H
X-Robots-Tag:noindex
X-PUBLISHED-TTL:PT1H
BEGIN:VTIMEZONE
TZID:Europe/Oslo
BEGIN:DAYLIGHT
TZOFFSETFROM:+0100
TZOFFSETTO:+0200
TZNAME:CEST
DTSTART:20210328T010000
END:DAYLIGHT
BEGIN:STANDARD
TZOFFSETFROM:+0200
TZOFFSETTO:+0100
TZNAME:CET
DTSTART:20211031T010000
END:STANDARD
END:VTIMEZONE
BEGIN:VEVENT
DTSTART;TZID=Europe/Oslo:20210408T093000
DTEND;TZID=Europe/Oslo:20210408T113000
DTSTAMP:20260421T035408
CREATED:20210318T090511Z
LAST-MODIFIED:20210318T090512Z
UID:10011443-1617874200-1617881400@geoforum.no
SUMMARY:Kurs i utvikling av tiltak for å øke datakvaliteten i matrikkelen
DESCRIPTION:Kartverket inviterer til «kræsjkurs» for utvikling av tiltak for å øke datakvaliteten i matrikkelen og vurdering av dem. \nLes mer og meld deg på her \n 
URL:https://geoforum.no/event/kurs-i-utvikling-av-tiltak-for-a-oke-datakvaliteten-i-matrikkelen/
CATEGORIES:Eksterne kurs og konferanser
END:VEVENT
BEGIN:VEVENT
DTSTART;TZID=Europe/Oslo:20210408T130000
DTEND;TZID=Europe/Oslo:20210408T153000
DTSTAMP:20260421T035408
CREATED:20210322T205911Z
LAST-MODIFIED:20210322T205912Z
UID:10011447-1617886800-1617895800@geoforum.no
SUMMARY:Data til/fra Nasjonal vegdatabank\, NVDB – Del 2
DESCRIPTION:BA- nettverket arrangerer åpne digitale nettverkstreff med fokus på NVDB. \nLenke til program og påmelding finner dere her
URL:https://geoforum.no/event/data-til-fra-nasjonal-vegdatabank-nvdb-del-2/
CATEGORIES:Eksterne kurs og konferanser
END:VEVENT
END:VCALENDAR