BEGIN:VCALENDAR
VERSION:2.0
PRODID:-//GeoForum - ECPv6.10.0//NONSGML v1.0//EN
CALSCALE:GREGORIAN
METHOD:PUBLISH
X-ORIGINAL-URL:https://geoforum.no
X-WR-CALDESC:Arrangement for GeoForum
REFRESH-INTERVAL;VALUE=DURATION:PT1H
X-Robots-Tag:noindex
X-PUBLISHED-TTL:PT1H
BEGIN:VTIMEZONE
TZID:Europe/Oslo
BEGIN:DAYLIGHT
TZOFFSETFROM:+0100
TZOFFSETTO:+0200
TZNAME:CEST
DTSTART:20210328T010000
END:DAYLIGHT
BEGIN:STANDARD
TZOFFSETFROM:+0200
TZOFFSETTO:+0100
TZNAME:CET
DTSTART:20211031T010000
END:STANDARD
END:VTIMEZONE
BEGIN:VEVENT
DTSTART;TZID=Europe/Oslo:20210311T120000
DTEND;TZID=Europe/Oslo:20210311T133000
DTSTAMP:20260421T052722
CREATED:20210223T091234Z
LAST-MODIFIED:20210223T091234Z
UID:10011437-1615464000-1615469400@geoforum.no
SUMMARY:Seminar om digitalisering av plan\, bygg og geodata
DESCRIPTION:Geomatikkbedriftene\, Abelia\, IKT-Norge\, Direktoratet for byggkvalitet\, Kommunesektorens organisasjon (KS) og Kartverket inviterer til informasjonsseminar for samarbeid mellom offentlig og privat sektor innen geomatikk. \nSeminaret er gratis og åpent for alle som ønsker å delta. \nMer informasjon på Kartverket.no
URL:https://geoforum.no/event/seminar-om-digitalisering-av-plan-bygg-og-geodata-2/
CATEGORIES:Eksterne kurs og konferanser
END:VEVENT
END:VCALENDAR