BEGIN:VCALENDAR
VERSION:2.0
PRODID:-//GeoForum - ECPv6.10.0//NONSGML v1.0//EN
CALSCALE:GREGORIAN
METHOD:PUBLISH
X-WR-CALNAME:GeoForum
X-ORIGINAL-URL:https://geoforum.no
X-WR-CALDESC:Arrangement for GeoForum
REFRESH-INTERVAL;VALUE=DURATION:PT1H
X-Robots-Tag:noindex
X-PUBLISHED-TTL:PT1H
BEGIN:VTIMEZONE
TZID:Europe/Oslo
BEGIN:DAYLIGHT
TZOFFSETFROM:+0100
TZOFFSETTO:+0200
TZNAME:CEST
DTSTART:20200329T010000
END:DAYLIGHT
BEGIN:STANDARD
TZOFFSETFROM:+0200
TZOFFSETTO:+0100
TZNAME:CET
DTSTART:20201025T010000
END:STANDARD
END:VTIMEZONE
BEGIN:VEVENT
DTSTART;TZID=Europe/Oslo:20201203T100000
DTEND;TZID=Europe/Oslo:20201203T104500
DTSTAMP:20260421T090954
CREATED:20201111T131824Z
LAST-MODIFIED:20201111T131956Z
UID:10011319-1606989600-1606992300@geoforum.no
SUMMARY:Min side på Geonorge
DESCRIPTION:I dette webinaret skal Kartverket vise den nye løsningen “Min side” på Geonorge. Dette er en ny løsning for dataeiere hvor de vil få en god oversikt over sine datasett\, tjenester og avtaler tilknyttet Norge Digitalt.\nSelv om første versjon av “Min side” er rettet mot dataeiere\, så er alle velkommen til å delta på webinaret. \nPåmelding \n  \n 
URL:https://geoforum.no/event/min-side-pa-geonorge/
CATEGORIES:Webinar eksternt
END:VEVENT
END:VCALENDAR