BEGIN:VCALENDAR
VERSION:2.0
PRODID:-//GeoForum - ECPv6.10.0//NONSGML v1.0//EN
CALSCALE:GREGORIAN
METHOD:PUBLISH
X-ORIGINAL-URL:https://geoforum.no
X-WR-CALDESC:Arrangement for GeoForum
REFRESH-INTERVAL;VALUE=DURATION:PT1H
X-Robots-Tag:noindex
X-PUBLISHED-TTL:PT1H
BEGIN:VTIMEZONE
TZID:Europe/Oslo
BEGIN:DAYLIGHT
TZOFFSETFROM:+0100
TZOFFSETTO:+0200
TZNAME:CEST
DTSTART:20200329T010000
END:DAYLIGHT
BEGIN:STANDARD
TZOFFSETFROM:+0200
TZOFFSETTO:+0100
TZNAME:CET
DTSTART:20201025T010000
END:STANDARD
END:VTIMEZONE
BEGIN:VEVENT
DTSTART;TZID=Europe/Oslo:20201201T090000
DTEND;TZID=Europe/Oslo:20201201T160000
DTSTAMP:20260421T091102
CREATED:20200922T132515Z
LAST-MODIFIED:20201116T101338Z
UID:10011421-1606813200-1606838400@geoforum.no
SUMMARY:Plan\, bygg og geodata - Kommunal geomatikkonferanse 2020
DESCRIPTION:I år arrangeres konferansen digitalt den 1. desember. \nProgram \nPåmelding
URL:https://geoforum.no/event/plan-bygg-og-geodata-kommunal-geomatikkonferanse-2020/
CATEGORIES:Konferanse
END:VEVENT
END:VCALENDAR