BEGIN:VCALENDAR
VERSION:2.0
PRODID:-//GeoForum - ECPv6.10.0//NONSGML v1.0//EN
CALSCALE:GREGORIAN
METHOD:PUBLISH
X-ORIGINAL-URL:https://geoforum.no
X-WR-CALDESC:Arrangement for GeoForum
REFRESH-INTERVAL;VALUE=DURATION:PT1H
X-Robots-Tag:noindex
X-PUBLISHED-TTL:PT1H
BEGIN:VTIMEZONE
TZID:Europe/Oslo
BEGIN:DAYLIGHT
TZOFFSETFROM:+0100
TZOFFSETTO:+0200
TZNAME:CEST
DTSTART:20200329T010000
END:DAYLIGHT
BEGIN:STANDARD
TZOFFSETFROM:+0200
TZOFFSETTO:+0100
TZNAME:CET
DTSTART:20201025T010000
END:STANDARD
END:VTIMEZONE
BEGIN:VEVENT
DTSTART;TZID=Europe/Oslo:20200915T100000
DTEND;TZID=Europe/Oslo:20200915T120000
DTSTAMP:20260421T141051
CREATED:20200814T114851Z
LAST-MODIFIED:20200825T093237Z
UID:10011417-1600164000-1600171200@geoforum.no
SUMMARY:Webinar om vannveier og stikkrenner
DESCRIPTION:Vi arrangerer webinar hvor kommuner og ledningseiere får praktiske tips til hvordan man kan kartlegge vannveier og stikkrenner. Det blir innlegg fra NVE og kommuner. Dere får også høre om mulige finansieringsmuligheter / tilskuddsordninger. \nDet koster kr 350\,- å delta på webinaret. \nWebinar om vannveier og stikkrenner 15.09.20_program \nPåmelding
URL:https://geoforum.no/event/webinar-om-vannveier-og-stikkrenner/
CATEGORIES:Kurs
ATTACH;FMTTYPE=image/jpeg:https://geoforum.no/wp-content/uploads/2020/08/tube-945487_1920.jpg
END:VEVENT
END:VCALENDAR