BEGIN:VCALENDAR
VERSION:2.0
PRODID:-//GeoForum - ECPv6.10.0//NONSGML v1.0//EN
CALSCALE:GREGORIAN
METHOD:PUBLISH
X-ORIGINAL-URL:https://geoforum.no
X-WR-CALDESC:Arrangement for GeoForum
REFRESH-INTERVAL;VALUE=DURATION:PT1H
X-Robots-Tag:noindex
X-PUBLISHED-TTL:PT1H
BEGIN:VTIMEZONE
TZID:Europe/Oslo
BEGIN:DAYLIGHT
TZOFFSETFROM:+0100
TZOFFSETTO:+0200
TZNAME:CEST
DTSTART:20200329T010000
END:DAYLIGHT
BEGIN:STANDARD
TZOFFSETFROM:+0200
TZOFFSETTO:+0100
TZNAME:CET
DTSTART:20201025T010000
END:STANDARD
END:VTIMEZONE
BEGIN:VEVENT
DTSTART;TZID=Europe/Oslo:20200625T100000
DTEND;TZID=Europe/Oslo:20200625T113000
DTSTAMP:20260421T182923
CREATED:20200612T063758Z
LAST-MODIFIED:20200612T085308Z
UID:10011415-1593079200-1593084600@geoforum.no
SUMMARY:Seminar om matrikkelforskriften
DESCRIPTION:Endringene i matrikkelforskriften er vedtatt og trer i kraft fra 1. januar 2021. Dette betyr bl.a. at autorisasjonsordningen for eiendomslandmålere innføres. Hva innebærer dette for dagens og framtidens landmålere? \nDag Høgvard og Cathrine Rosmer fra Kommunal og moderniseringsdepartementet. \n  \nSeminaret avholdes på Zoom. \nDeltakeravgift kr 350 for medlemmer\, kr 500 for ikke-medlemmer. \nPåmelding \n 
URL:https://geoforum.no/event/seminar-om-matrikkelforskriften/
CATEGORIES:Seminar
END:VEVENT
END:VCALENDAR