BEGIN:VCALENDAR
VERSION:2.0
PRODID:-//GeoForum - ECPv6.10.0//NONSGML v1.0//EN
CALSCALE:GREGORIAN
METHOD:PUBLISH
X-ORIGINAL-URL:https://geoforum.no
X-WR-CALDESC:Arrangement for GeoForum
REFRESH-INTERVAL;VALUE=DURATION:PT1H
X-Robots-Tag:noindex
X-PUBLISHED-TTL:PT1H
BEGIN:VTIMEZONE
TZID:Europe/Oslo
BEGIN:DAYLIGHT
TZOFFSETFROM:+0100
TZOFFSETTO:+0200
TZNAME:CEST
DTSTART:20200329T010000
END:DAYLIGHT
BEGIN:STANDARD
TZOFFSETFROM:+0200
TZOFFSETTO:+0100
TZNAME:CET
DTSTART:20201025T010000
END:STANDARD
END:VTIMEZONE
BEGIN:VEVENT
DTSTART;TZID=Europe/Oslo:20200514T090000
DTEND;TZID=Europe/Oslo:20200514T110000
DTSTAMP:20260421T194956
CREATED:20200507T142059Z
LAST-MODIFIED:20200507T142059Z
UID:10011410-1589446800-1589454000@geoforum.no
SUMMARY:Geodata inviterer til digital fagdag for region Vestland
DESCRIPTION:Fagdagen blir gjennomført som et webinar og det er gratis å delta. Registrer deg på webinaret på linken nedenfor: \nhttps://attendee.gotowebinar.com/register/1714093954449139981 \nSelv om program og invitasjon er tilpasset lokale aktører i Vestland\, kan den videresendes til andre som kan ha glede av å være med.\nProgram \n09.00 – 09.05 Oppkobling og velkomst\nStåle Klommestein\, Geodata AS \n09.05 – 09.20 Bruk av Operations Dashboard som del av kriseleiinga sin handtering av Korona\nKnud Hillers\, Bergen Kommune \n09.20 – 09.35 Kartlegging av infrastruktur på Askøy\nVegard Eriksen\, Multiconsult \n09.35 – 10.05 Analyser og verktøy for å finne og håndtere utfordringer med overvann\nTore Jensen\, Geodata AS \n10.05 – 10.20 Visualisering av utbyggingsprosjekter vei\nJo Tore Kristoffersen\, Vestland Fylkeskommune \n10.20 – 10.35 Bruk av ArcGIS i prosjekter i Bergensregionen:\nBybåten\, Hordalandsdiagonalen og webkart i Os\nStian Heid\, Asplan Viak \n10.35 – 10.50 Visualisering av vindmølleparker\nRoy Svarliaunet\, Geodata AS \n10.50 – 11.00 DOK-data og oppsummering\nStåle Klommestein\, Geodata AS
URL:https://geoforum.no/event/geodata-inviterer-til-digital-fagdag-for-region-vestland/
CATEGORIES:Eksterne kurs og konferanser
END:VEVENT
END:VCALENDAR