BEGIN:VCALENDAR
VERSION:2.0
PRODID:-//GeoForum - ECPv6.10.0//NONSGML v1.0//EN
CALSCALE:GREGORIAN
METHOD:PUBLISH
X-ORIGINAL-URL:https://geoforum.no
X-WR-CALDESC:Arrangement for GeoForum
REFRESH-INTERVAL;VALUE=DURATION:PT1H
X-Robots-Tag:noindex
X-PUBLISHED-TTL:PT1H
BEGIN:VTIMEZONE
TZID:Europe/Oslo
BEGIN:DAYLIGHT
TZOFFSETFROM:+0100
TZOFFSETTO:+0200
TZNAME:CEST
DTSTART:20200329T010000
END:DAYLIGHT
BEGIN:STANDARD
TZOFFSETFROM:+0200
TZOFFSETTO:+0100
TZNAME:CET
DTSTART:20201025T010000
END:STANDARD
END:VTIMEZONE
BEGIN:VEVENT
DTSTART;TZID=Europe/Oslo:20200318T080000
DTEND;TZID=Europe/Oslo:20200319T170000
DTSTAMP:20260421T224123
CREATED:20200109T102235Z
LAST-MODIFIED:20200310T111726Z
UID:10011396-1584518400-1584637200@geoforum.no
SUMMARY:Lokale Geomatikkdager 2020 Troms og Finnmark
DESCRIPTION:Velkommen til Lokale Geomatikkdager for Troms og Finnmark 18.-19. mars! Konferansen gjennomføres på Scandic Alta. Dagen før er det fagdag samme sted\, så du kan slå to fluer i en smekk. \nProgram \nPåmelding
URL:https://geoforum.no/event/lokale-geomatikkdager-2020-troms-og-finnmark/
CATEGORIES:Lokale geomatikkdager
END:VEVENT
END:VCALENDAR