BEGIN:VCALENDAR
VERSION:2.0
PRODID:-//GeoForum - ECPv6.10.0//NONSGML v1.0//EN
CALSCALE:GREGORIAN
METHOD:PUBLISH
X-ORIGINAL-URL:https://geoforum.no
X-WR-CALDESC:Arrangement for GeoForum
REFRESH-INTERVAL;VALUE=DURATION:PT1H
X-Robots-Tag:noindex
X-PUBLISHED-TTL:PT1H
BEGIN:VTIMEZONE
TZID:Europe/Oslo
BEGIN:DAYLIGHT
TZOFFSETFROM:+0100
TZOFFSETTO:+0200
TZNAME:CEST
DTSTART:20200329T010000
END:DAYLIGHT
BEGIN:STANDARD
TZOFFSETFROM:+0200
TZOFFSETTO:+0100
TZNAME:CET
DTSTART:20201025T010000
END:STANDARD
END:VTIMEZONE
BEGIN:VEVENT
DTSTART;TZID=Europe/Oslo:20200211T090000
DTEND;TZID=Europe/Oslo:20200212T150000
DTSTAMP:20260422T000154
CREATED:20200114T072155Z
LAST-MODIFIED:20200210T094323Z
UID:10011399-1581411600-1581519600@geoforum.no
SUMMARY:GeoForum Innlandet lokale Geomatikkdager 2020
DESCRIPTION:Geoforum Innlandet inviterer til Lokale geomatikkdager 11. – 12. februar 2020\nWood Hotel\, Mjøstårnet i Brumunddal \nFor første gang inviterer Geoforum til Lokale geomatikkdager Innlandet!\nVi har derfor valgt et flunkende nytt hotell i regionen for den årlige begivenheten. Wood hotel Mjøstårnet blir disse dagene en arena for faglig påfyll\, diskusjoner og problemløsing\, og ikke minst mulighet for å treffe kjente og nye kollegaer i regionen. Vi tilbyr et variert program\, med noe fokus på endringer i regional organisasjonsstruktur\, matrikkeltema og framtidas muligheter for kartlegging og datafangst. \nPraktiske opplysninger \nInvitasjon og program \nPåmelding
URL:https://geoforum.no/event/geoforum-innlandet-lokale-geomatikkdager-2020/
CATEGORIES:Lokale geomatikkdager
END:VEVENT
BEGIN:VEVENT
DTSTART;TZID=Europe/Oslo:20200212T094500
DTEND;TZID=Europe/Oslo:20200212T153000
DTSTAMP:20260422T000154
CREATED:20200203T132720Z
LAST-MODIFIED:20200203T132721Z
UID:10011404-1581500700-1581521400@geoforum.no
SUMMARY:Fagdag og årsmøte GeoForum Buskerud
DESCRIPTION:GeoForum Buskerud inviterer til fagdag med omvisning i Kongens gruve i Kongsberg – og påfølgende årsmøte. \nPåmelding sendes til buskerud@geoforum.no \n20190212_FagdagGeoforumBuskerud
URL:https://geoforum.no/event/fagdag-og-arsmote-geoforum-buskerud/
CATEGORIES:Temadag lokalt
END:VEVENT
END:VCALENDAR