BEGIN:VCALENDAR
VERSION:2.0
PRODID:-//GeoForum - ECPv6.10.0//NONSGML v1.0//EN
CALSCALE:GREGORIAN
METHOD:PUBLISH
X-ORIGINAL-URL:https://geoforum.no
X-WR-CALDESC:Arrangement for GeoForum
REFRESH-INTERVAL;VALUE=DURATION:PT1H
X-Robots-Tag:noindex
X-PUBLISHED-TTL:PT1H
BEGIN:VTIMEZONE
TZID:Europe/Oslo
BEGIN:DAYLIGHT
TZOFFSETFROM:+0100
TZOFFSETTO:+0200
TZNAME:CEST
DTSTART:20190331T010000
END:DAYLIGHT
BEGIN:STANDARD
TZOFFSETFROM:+0200
TZOFFSETTO:+0100
TZNAME:CET
DTSTART:20191027T010000
END:STANDARD
END:VTIMEZONE
BEGIN:VEVENT
DTSTART;TZID=Europe/Oslo:20191205T093000
DTEND;TZID=Europe/Oslo:20191205T161500
DTSTAMP:20260422T021441
CREATED:20190930T122725Z
LAST-MODIFIED:20190930T133119Z
UID:10011279-1575538200-1575562500@geoforum.no
SUMMARY:Vær Smart! - kurs i klimatilpasning
DESCRIPTION:«VÆR SMART!» er Miljødirektoratets kursopplegg om klimatilpasning for kommunene. Kurset er tverrfaglig og relevant for mange ulike deler av kommunen. Vi arrangerer kurset to ganger i 2019\, i Oslo og Vikersund. Meld deg på! \nLink til mer informasjon og påmelding\nKurset arrangeres i Vikersund\, den 20. november
URL:https://geoforum.no/event/vaer-smart-kurs-i-klimatilpasning/
LOCATION:Tyrifjord hotell\, Vikersund
CATEGORIES:Eksterne kurs og konferanser
END:VEVENT
END:VCALENDAR