BEGIN:VCALENDAR
VERSION:2.0
PRODID:-//GeoForum - ECPv6.10.0//NONSGML v1.0//EN
CALSCALE:GREGORIAN
METHOD:PUBLISH
X-ORIGINAL-URL:https://geoforum.no
X-WR-CALDESC:Arrangement for GeoForum
REFRESH-INTERVAL;VALUE=DURATION:PT1H
X-Robots-Tag:noindex
X-PUBLISHED-TTL:PT1H
BEGIN:VTIMEZONE
TZID:Europe/Oslo
BEGIN:DAYLIGHT
TZOFFSETFROM:+0100
TZOFFSETTO:+0200
TZNAME:CEST
DTSTART:20190331T010000
END:DAYLIGHT
BEGIN:STANDARD
TZOFFSETFROM:+0200
TZOFFSETTO:+0100
TZNAME:CET
DTSTART:20191027T010000
END:STANDARD
END:VTIMEZONE
BEGIN:VEVENT
DTSTART;TZID=Europe/Oslo:20191202T093000
DTEND;TZID=Europe/Oslo:20191203T150000
DTSTAMP:20260422T021438
CREATED:20190613T120407Z
LAST-MODIFIED:20191201T213854Z
UID:10011348-1575279000-1575385200@geoforum.no
SUMMARY:Plan\, bygg og geodata - Kommunal geomatikkonferanse
DESCRIPTION:Velkommen til konferansen for planleggere\, byggesaksbehandlere\, geomatikere og landmålere! \nprogram \nPåmelding \nGratisdeltakelse ved loddtrekning for medlemmer som melder seg på som planleggere eller byggesaksbehandlere.  De som ikke allerede er medlem kan melde seg inn ved påmelding. Kontingenten blir fakturert fra 2020 og er kr 400. \nTilbudet gjelder medlemmer\, det som tidligere hadde benevnelsen personlige medlemmer.  GeoForum har fått kompetansemidler fra KMD som gjør det mulig å tilby gratisdeltakelse. Dersom påmelding skjer med forbehold om gratisdeltakelse kan det opplyses om i kommentarfeltet.
URL:https://geoforum.no/event/plan-bygg-og-geodata-kommunal-geomatikkonferanse-2/
LOCATION:Thon hotel Arena\, Nesgata 1\, Lillestrøm\, 2004
CATEGORIES:Konferanse
END:VEVENT
END:VCALENDAR