BEGIN:VCALENDAR
VERSION:2.0
PRODID:-//GeoForum - ECPv6.10.0//NONSGML v1.0//EN
CALSCALE:GREGORIAN
METHOD:PUBLISH
X-ORIGINAL-URL:https://geoforum.no
X-WR-CALDESC:Arrangement for GeoForum
REFRESH-INTERVAL;VALUE=DURATION:PT1H
X-Robots-Tag:noindex
X-PUBLISHED-TTL:PT1H
BEGIN:VTIMEZONE
TZID:Europe/Oslo
BEGIN:DAYLIGHT
TZOFFSETFROM:+0100
TZOFFSETTO:+0200
TZNAME:CEST
DTSTART:20190331T010000
END:DAYLIGHT
BEGIN:STANDARD
TZOFFSETFROM:+0200
TZOFFSETTO:+0100
TZNAME:CET
DTSTART:20191027T010000
END:STANDARD
END:VTIMEZONE
BEGIN:VEVENT
DTSTART;TZID=Europe/Oslo:20191115T090000
DTEND;TZID=Europe/Oslo:20191115T150000
DTSTAMP:20260422T033736
CREATED:20190904T071851Z
LAST-MODIFIED:20190904T071927Z
UID:10011388-1573808400-1573830000@geoforum.no
SUMMARY:ISY WinMap Sentral FKB
DESCRIPTION:Brukere av ISY WinMap som jobber/skal jobbe med oppdatering av grunnkartdata i Sentral FKB hos Kartverket. \nFor mer informasjon og påmelding les her
URL:https://geoforum.no/event/isy-winmap_sentral_fkb/
LOCATION:Sandvika
CATEGORIES:Eksterne kurs og konferanser
END:VEVENT
END:VCALENDAR