BEGIN:VCALENDAR
VERSION:2.0
PRODID:-//GeoForum - ECPv6.10.0//NONSGML v1.0//EN
CALSCALE:GREGORIAN
METHOD:PUBLISH
X-WR-CALNAME:GeoForum
X-ORIGINAL-URL:https://geoforum.no
X-WR-CALDESC:Arrangement for GeoForum
REFRESH-INTERVAL;VALUE=DURATION:PT1H
X-Robots-Tag:noindex
X-PUBLISHED-TTL:PT1H
BEGIN:VTIMEZONE
TZID:Europe/Oslo
BEGIN:DAYLIGHT
TZOFFSETFROM:+0100
TZOFFSETTO:+0200
TZNAME:CEST
DTSTART:20190331T010000
END:DAYLIGHT
BEGIN:STANDARD
TZOFFSETFROM:+0200
TZOFFSETTO:+0100
TZNAME:CET
DTSTART:20191027T010000
END:STANDARD
END:VTIMEZONE
BEGIN:VEVENT
DTSTART;TZID=Europe/Oslo:20191105T093000
DTEND;TZID=Europe/Oslo:20191106T143000
DTSTAMP:20260422T033503
CREATED:20191004T065041Z
LAST-MODIFIED:20191004T065133Z
UID:10011280-1572946200-1573050600@geoforum.no
SUMMARY:Sjøkartkonferansen 2019
DESCRIPTION:Tirsdag 5. og onsdag 6. november inviterer Kartverkets sjødivisjon til Sjøkartkonferansen 2019. \nKartverket ønsker å skape en møteplass for brukere og leverandører av nautiske produkter\, maritime interesseorganisasjoner\, undervisningsmiljø og offentlige aktører. For å bidra til en mer effektiv og sikker seilas i norske farvann. Mer om konferansen finner du her.
URL:https://geoforum.no/event/sjokartkonferansen-2019/
LOCATION:Kartverket Rogaland\, Professor Olav Hanssens vei 10\, Stavanger
CATEGORIES:Eksterne kurs og konferanser
GEO:58.9347523;5.702327
X-APPLE-STRUCTURED-LOCATION;VALUE=URI;X-ADDRESS=Kartverket Rogaland Professor Olav Hanssens vei 10 Stavanger;X-APPLE-RADIUS=500;X-TITLE=Professor Olav Hanssens vei 10:geo:5.702327,58.9347523
END:VEVENT
BEGIN:VEVENT
DTSTART;TZID=Europe/Oslo:20191106T100000
DTEND;TZID=Europe/Oslo:20191107T150000
DTSTAMP:20260422T033503
CREATED:20190425T121454Z
LAST-MODIFIED:20190924T092928Z
UID:10011342-1573034400-1573138800@geoforum.no
SUMMARY:Regionale geomatikkdager for Telemark\, Vestfold og Østfold 2019
DESCRIPTION:Vi ønsker velkommen til Regionale geomatikkdager på Quality Skjærgården i Langesund! \nVi trekker ut en av dere som melder dere inn som medlem i GeoForum i forbindelse med arrangementet\, og den heldige vinneren får gratis deltakelse og overnatting! \nProgram regionale Geomatikkdager Langesund_23.09.19 \nPåmelding
URL:https://geoforum.no/event/regionale-geomatikkdager-for-telemark-vestfold-og-ostfold-2019/
LOCATION:Quality Hotel Skjærgården\, Stathelleveien 35\, Langesund\, 3970
CATEGORIES:Lokale geomatikkdager
END:VEVENT
END:VCALENDAR