BEGIN:VCALENDAR
VERSION:2.0
PRODID:-//GeoForum - ECPv6.10.0//NONSGML v1.0//EN
CALSCALE:GREGORIAN
METHOD:PUBLISH
X-ORIGINAL-URL:https://geoforum.no
X-WR-CALDESC:Arrangement for GeoForum
REFRESH-INTERVAL;VALUE=DURATION:PT1H
X-Robots-Tag:noindex
X-PUBLISHED-TTL:PT1H
BEGIN:VTIMEZONE
TZID:Europe/Oslo
BEGIN:DAYLIGHT
TZOFFSETFROM:+0100
TZOFFSETTO:+0200
TZNAME:CEST
DTSTART:20190331T010000
END:DAYLIGHT
BEGIN:STANDARD
TZOFFSETFROM:+0200
TZOFFSETTO:+0100
TZNAME:CET
DTSTART:20191027T010000
END:STANDARD
END:VTIMEZONE
BEGIN:VEVENT
DTSTART;TZID=Europe/Oslo:20191104T100000
DTEND;TZID=Europe/Oslo:20191105T150000
DTSTAMP:20260422T033552
CREATED:20190516T091914Z
LAST-MODIFIED:20190904T061011Z
UID:10011347-1572861600-1572966000@geoforum.no
SUMMARY:ISY dagene 2019
DESCRIPTION:Norconsult inviterer til  årlige brukermøte ISYdagene på Quality Airport Hotel Gardermoen 4.- 5. november. \nLink til informasjon\, program og påmelding \n 
URL:https://geoforum.no/event/isy-dagene-2019/
LOCATION:Quality Airport Hotel Gardermoen
CATEGORIES:Eksterne kurs og konferanser
END:VEVENT
END:VCALENDAR