BEGIN:VCALENDAR
VERSION:2.0
PRODID:-//GeoForum - ECPv6.10.0//NONSGML v1.0//EN
CALSCALE:GREGORIAN
METHOD:PUBLISH
X-WR-CALNAME:GeoForum
X-ORIGINAL-URL:https://geoforum.no
X-WR-CALDESC:Arrangement for GeoForum
REFRESH-INTERVAL;VALUE=DURATION:PT1H
X-Robots-Tag:noindex
X-PUBLISHED-TTL:PT1H
BEGIN:VTIMEZONE
TZID:Europe/Oslo
BEGIN:DAYLIGHT
TZOFFSETFROM:+0100
TZOFFSETTO:+0200
TZNAME:CEST
DTSTART:20190331T010000
END:DAYLIGHT
BEGIN:STANDARD
TZOFFSETFROM:+0200
TZOFFSETTO:+0100
TZNAME:CET
DTSTART:20191027T010000
END:STANDARD
END:VTIMEZONE
BEGIN:VEVENT
DTSTART;TZID=Europe/Oslo:20191016T100000
DTEND;TZID=Europe/Oslo:20191018T140000
DTSTAMP:20260422T044246
CREATED:20190926T152352Z
LAST-MODIFIED:20190926T152543Z
UID:10011277-1571220000-1571407200@geoforum.no
SUMMARY:e-kommune
DESCRIPTION:KS og KS Agenda ønsker velkommen til eKommune-konferansen \nKonferansen retter seg primært mot alle landets kommuner og er et tilbud til kommunene om oppdatert informasjon om det som skjer når det gjelder digitalisering innenfor sektoren. \nProgram og påmelding
URL:https://geoforum.no/event/e-kommune/
LOCATION:Thon Congress Gardermoen
CATEGORIES:Eksterne kurs og konferanser
END:VEVENT
BEGIN:VEVENT
DTSTART;TZID=Europe/Oslo:20191017T083000
DTEND;TZID=Europe/Oslo:20191017T160000
DTSTAMP:20260422T044246
CREATED:20190411T063709Z
LAST-MODIFIED:20191015T153034Z
UID:10011341-1571301000-1571328000@geoforum.no
SUMMARY:GIS-analyser 2019
DESCRIPTION:GeoForum og representanter fra bransjen inviterer til workshop om GIS-analyser den 17. oktober på Clarion Hotel & Congress Oslo Airport.\nHvordan analysere viktige DOK-data i forbindelse med en ny reguleringsplan?  \nArrangementet har som mål at deltakerne på en enkel måte skal kunne gjennomføre analyser av aktuelle datasett i nye planområder. Det anbefales å stille med både en person fra plan og en fra GIS-fagfeltet for å få mest mulig ut av workshopen. Mange kartlag med temadata må vurderes av planleggere for å bruke det riktig i planprosessen og samarbeid mellom avdelinger er derfor essensiell. Deltakerne deles i tre grupper etter hvilken programvare de benytter i det daglige – og skal jobbe med konkrete caser. Du møter eksperter fra Norkart\, Norconsult og Geodata som veiledere under workshopen.\nInvitasjon og program GIS-analyser 2019 \nPåmelding
URL:https://geoforum.no/event/gis-analyser-2019/
LOCATION:Clarion Hotel & Congress Oslo Airport
CATEGORIES:Seminar
END:VEVENT
BEGIN:VEVENT
DTSTART;TZID=Europe/Oslo:20191017T090000
DTEND;TZID=Europe/Oslo:20191017T160000
DTSTAMP:20260422T044247
CREATED:20190916T111606Z
LAST-MODIFIED:20190916T111937Z
UID:10011392-1571302800-1571328000@geoforum.no
SUMMARY:Mareano-konferansen 2019
DESCRIPTION:Program \nPåmelding
URL:https://geoforum.no/event/mareano-konferansen-2019/
LOCATION:Miljødirektoratet\, Oslo\, Gresesvingen 7\,  Oslo\, 0661
CATEGORIES:Eksterne kurs og konferanser
END:VEVENT
END:VCALENDAR