BEGIN:VCALENDAR
VERSION:2.0
PRODID:-//GeoForum - ECPv6.10.0//NONSGML v1.0//EN
CALSCALE:GREGORIAN
METHOD:PUBLISH
X-WR-CALNAME:GeoForum
X-ORIGINAL-URL:https://geoforum.no
X-WR-CALDESC:Arrangement for GeoForum
REFRESH-INTERVAL;VALUE=DURATION:PT1H
X-Robots-Tag:noindex
X-PUBLISHED-TTL:PT1H
BEGIN:VTIMEZONE
TZID:Europe/Oslo
BEGIN:DAYLIGHT
TZOFFSETFROM:+0100
TZOFFSETTO:+0200
TZNAME:CEST
DTSTART:20190331T010000
END:DAYLIGHT
BEGIN:STANDARD
TZOFFSETFROM:+0200
TZOFFSETTO:+0100
TZNAME:CET
DTSTART:20191027T010000
END:STANDARD
END:VTIMEZONE
BEGIN:VEVENT
DTSTART;TZID=Europe/Oslo:20191014T090000
DTEND;TZID=Europe/Oslo:20191015T150000
DTSTAMP:20260422T044356
CREATED:20190819T094314Z
LAST-MODIFIED:20190819T094314Z
UID:10011372-1571043600-1571151600@geoforum.no
SUMMARY:Etablering av digitale reguleringsplaner i GISLINE Arealplan
DESCRIPTION:Les mer her: \nhttps://www.norkart.no/kurs/etablering-av-digitale-reguleringsplaner-i-gisline-arealplan-sandvika-okt19/
URL:https://geoforum.no/event/etablering-av-digitale-reguleringsplaner-i-gisline-arealplan-2/
LOCATION:Norkart Sandvika\, Løkketangen 20A
CATEGORIES:Eksterne kurs og konferanser
END:VEVENT
END:VCALENDAR