BEGIN:VCALENDAR
VERSION:2.0
PRODID:-//GeoForum - ECPv6.10.0//NONSGML v1.0//EN
CALSCALE:GREGORIAN
METHOD:PUBLISH
X-WR-CALNAME:GeoForum
X-ORIGINAL-URL:https://geoforum.no
X-WR-CALDESC:Arrangement for GeoForum
REFRESH-INTERVAL;VALUE=DURATION:PT1H
X-Robots-Tag:noindex
X-PUBLISHED-TTL:PT1H
BEGIN:VTIMEZONE
TZID:Europe/Oslo
BEGIN:DAYLIGHT
TZOFFSETFROM:+0100
TZOFFSETTO:+0200
TZNAME:CEST
DTSTART:20190331T010000
END:DAYLIGHT
BEGIN:STANDARD
TZOFFSETFROM:+0200
TZOFFSETTO:+0100
TZNAME:CET
DTSTART:20191027T010000
END:STANDARD
END:VTIMEZONE
BEGIN:VEVENT
DTSTART;TZID=Europe/Oslo:20190828T080000
DTEND;TZID=Europe/Oslo:20190830T170000
DTSTAMP:20260422T055524
CREATED:20190313T104037Z
LAST-MODIFIED:20190313T104037Z
UID:10011332-1566979200-1567184400@geoforum.no
SUMMARY:ArcGIS Pro - grunnleggende arbeidsflyt
DESCRIPTION:Utforsk de nye mulighetene i ArcGIS Pro og utvid din grunnleggende GIS-lærdom i takt med at du blir fortrolig med denne nye desktop-applikasjonen. \nProgram og påmelding
URL:https://geoforum.no/event/arcgis-pro-grunnleggende-arbeidsflyt/
LOCATION:Geodata Oslo\, Schweigaardsgate 28\, Oslo
CATEGORIES:Eksterne kurs og konferanser
END:VEVENT
END:VCALENDAR