BEGIN:VCALENDAR
VERSION:2.0
PRODID:-//GeoForum - ECPv6.10.0//NONSGML v1.0//EN
CALSCALE:GREGORIAN
METHOD:PUBLISH
X-WR-CALNAME:GeoForum
X-ORIGINAL-URL:https://geoforum.no
X-WR-CALDESC:Arrangement for GeoForum
REFRESH-INTERVAL;VALUE=DURATION:PT1H
X-Robots-Tag:noindex
X-PUBLISHED-TTL:PT1H
BEGIN:VTIMEZONE
TZID:Europe/Oslo
BEGIN:DAYLIGHT
TZOFFSETFROM:+0100
TZOFFSETTO:+0200
TZNAME:CEST
DTSTART:20190331T010000
END:DAYLIGHT
BEGIN:STANDARD
TZOFFSETFROM:+0200
TZOFFSETTO:+0100
TZNAME:CET
DTSTART:20191027T010000
END:STANDARD
END:VTIMEZONE
BEGIN:VEVENT
DTSTART;TZID=Europe/Oslo:20190605T110000
DTEND;TZID=Europe/Oslo:20190605T220000
DTSTAMP:20260422T105914
CREATED:20190425T132326Z
LAST-MODIFIED:20190430T064849Z
UID:10011343-1559732400-1559772000@geoforum.no
SUMMARY:GeoForum 50 år
DESCRIPTION:GeoForum runder 50 år – og det markerer vi med fagdag og jubileumsmiddag. Det blir kun en symbolsk pris for deltakelse – og begrenset antall plasser! \nDet hele skjer på Scandic Holmenkollen 05. juni. \nPris for medlemmer er kr 550\,-\, Dette dekker både fagdag med lunsj – og festmiddag med drikke! \nProgram GeoForum jubileumsfeiring \nPåmelding
URL:https://geoforum.no/event/geoforum-50-ar-2/
LOCATION:Scandic Holmenkollen Park\, Kongeveien 26\, Oslo\, Norge\, 0787\, Norge
CATEGORIES:Konferanse
ORGANIZER;CN="GeoForum":MAILTO:sverre@geoforum.no
END:VEVENT
END:VCALENDAR