BEGIN:VCALENDAR
VERSION:2.0
PRODID:-//GeoForum - ECPv6.10.0//NONSGML v1.0//EN
CALSCALE:GREGORIAN
METHOD:PUBLISH
X-WR-CALNAME:GeoForum
X-ORIGINAL-URL:https://geoforum.no
X-WR-CALDESC:Arrangement for GeoForum
REFRESH-INTERVAL;VALUE=DURATION:PT1H
X-Robots-Tag:noindex
X-PUBLISHED-TTL:PT1H
BEGIN:VTIMEZONE
TZID:Europe/Oslo
BEGIN:DAYLIGHT
TZOFFSETFROM:+0100
TZOFFSETTO:+0200
TZNAME:CEST
DTSTART:20190331T010000
END:DAYLIGHT
BEGIN:STANDARD
TZOFFSETFROM:+0200
TZOFFSETTO:+0100
TZNAME:CET
DTSTART:20191027T010000
END:STANDARD
END:VTIMEZONE
BEGIN:VEVENT
DTSTART;TZID=Europe/Oslo:20190603T080000
DTEND;TZID=Europe/Oslo:20190604T170000
DTSTAMP:20260422T094116
CREATED:20190313T103859Z
LAST-MODIFIED:20190313T103859Z
UID:10011331-1559548800-1559667600@geoforum.no
SUMMARY:Lag og rediger data i ArcGIS Pro
DESCRIPTION:Lær beste praksis for å opprette nøyaktige geografiske data og forvalte datasettet over tid. \nProgram og påmelding
URL:https://geoforum.no/event/lag-og-rediger-data-i-arcgis-pro/
LOCATION:Geodata Oslo\, Schweigaardsgate 28\, Oslo
CATEGORIES:Eksterne kurs og konferanser
END:VEVENT
BEGIN:VEVENT
DTSTART;TZID=Europe/Oslo:20190604T093000
DTEND;TZID=Europe/Oslo:20190604T150000
DTSTAMP:20260422T094116
CREATED:20190426T151643Z
LAST-MODIFIED:20190624T114944Z
UID:10011344-1559640600-1559660400@geoforum.no
SUMMARY:Fagdag plan\, bygg og oppmåling GeoForum Oslo og Akershus og Buskerud
DESCRIPTION:GeoForum Oslo og Akershus og Buskerud inviterer til fagdag.\nMålet for samlingen er å se på kvalitet i plan- og byggesaksbehandling og skape en bedre forståelse for sammenhengen mellom plan- og byggesaksbehandling og eiendomsforhold. \nSted:\nOdeon Sandvika kino\, Claude Monets alle 25\, Sandvika. \nPris:\nKr 1000\,- for medlemmer i GeoForum eller ansatte hos bedriftsmedlemmer. Et tillegg på kr 500\,- for andre. Prisen inkluderer 1 lunsj\, pausebuffet m/kaffe og te. \nProgram \nPåmelding \nPresentasjoner \nMERK: Påmeldingsløsningen har noen mangler som kan gjøre at det blir feil info på pris. Påmeldingene blir likevel registrert og riktig pris blir rettet opp før faktura sendes ut. \nPåmeldingsfrist: 31. mai \nKontaktperson: Andreas Dyken
URL:https://geoforum.no/event/fagdag-plan-bygg-og-oppmaling-geoforum-oslo-og-akershus-og-buskerud/
CATEGORIES:Temadag lokalt
END:VEVENT
END:VCALENDAR