BEGIN:VCALENDAR
VERSION:2.0
PRODID:-//GeoForum - ECPv6.10.0//NONSGML v1.0//EN
CALSCALE:GREGORIAN
METHOD:PUBLISH
X-WR-CALNAME:GeoForum
X-ORIGINAL-URL:https://geoforum.no
X-WR-CALDESC:Arrangement for GeoForum
REFRESH-INTERVAL;VALUE=DURATION:PT1H
X-Robots-Tag:noindex
X-PUBLISHED-TTL:PT1H
BEGIN:VTIMEZONE
TZID:Europe/Oslo
BEGIN:DAYLIGHT
TZOFFSETFROM:+0100
TZOFFSETTO:+0200
TZNAME:CEST
DTSTART:20190331T010000
END:DAYLIGHT
BEGIN:STANDARD
TZOFFSETFROM:+0200
TZOFFSETTO:+0100
TZNAME:CET
DTSTART:20191027T010000
END:STANDARD
END:VTIMEZONE
BEGIN:VEVENT
DTSTART;TZID=Europe/Oslo:20190507T100000
DTEND;TZID=Europe/Oslo:20190508T150000
DTSTAMP:20260422T105904
CREATED:20190313T100108Z
LAST-MODIFIED:20190313T100216Z
UID:10011325-1557223200-1557327600@geoforum.no
SUMMARY:Workshop om NADAG
DESCRIPTION:Kartverket Skien inviterer til Workshop om bruk av NADAG for lagring av lokale grunnundersøkelser. Workshopen består av en teoretisk og en praktisk del. Antall deltakere er begrenset. Se under for program og flere detaljer. \nPåmeldingsfrist fredag 26. april! \nProgram og påmelding
URL:https://geoforum.no/event/workshop-om-nadag/
LOCATION:Skien
CATEGORIES:Eksterne kurs og konferanser
END:VEVENT
END:VCALENDAR