BEGIN:VCALENDAR
VERSION:2.0
PRODID:-//GeoForum - ECPv6.10.0//NONSGML v1.0//EN
CALSCALE:GREGORIAN
METHOD:PUBLISH
X-ORIGINAL-URL:https://geoforum.no
X-WR-CALDESC:Arrangement for GeoForum
REFRESH-INTERVAL;VALUE=DURATION:PT1H
X-Robots-Tag:noindex
X-PUBLISHED-TTL:PT1H
BEGIN:VTIMEZONE
TZID:Europe/Oslo
BEGIN:DAYLIGHT
TZOFFSETFROM:+0100
TZOFFSETTO:+0200
TZNAME:CEST
DTSTART:20190331T010000
END:DAYLIGHT
BEGIN:STANDARD
TZOFFSETFROM:+0200
TZOFFSETTO:+0100
TZNAME:CET
DTSTART:20191027T010000
END:STANDARD
END:VTIMEZONE
BEGIN:VEVENT
DTSTART;TZID=Europe/Oslo:20190429T080000
DTEND;TZID=Europe/Oslo:20190429T170000
DTSTAMP:20260422T110008
CREATED:20190313T101912Z
LAST-MODIFIED:20190313T102009Z
UID:10011328-1556524800-1556557200@geoforum.no
SUMMARY:Matrikkel – en innføring
DESCRIPTION:Matrikkelkurset gir deg grunnleggende kunnskaper i GISLINE Matrikkel\, og gjør deg i stand til å utføre generelle oppgaver i dette programmet. \nForkunnskaper: GISLINE grunnkurs eller tilsvarende kunnskap i bruk av GISLINE. \nDet er ikke et krav om at man allerede er godkjent matrikkelfører før man tar dette kurset. Det anbefales imidlertid at man har forkunnskaper om matrikkelen ved at man for eksempel setter seg inn i presentasjonene tilhørende Kartverkets Forkurs og Føringskurs. \nhttp://www.kartverket.no/eiendom/saksbehandling/veiledning-og-kurs/veiledning-for-lokal-matrikkelmyndighet/Kurs-i-foring-av-matrikkelen/ \nKurset passer for: Kurset passer for matrikkelførere som skal bruke GISLINE Matrikkel i hverdagen. \nProgram og påmelding \nPåmeldingsfrist 28. april. \n 
URL:https://geoforum.no/event/matrikkel-en-innforing/
LOCATION:WEBkurs
CATEGORIES:Eksterne kurs og konferanser
END:VEVENT
END:VCALENDAR