BEGIN:VCALENDAR
VERSION:2.0
PRODID:-//GeoForum - ECPv6.10.0//NONSGML v1.0//EN
CALSCALE:GREGORIAN
METHOD:PUBLISH
X-WR-CALNAME:GeoForum
X-ORIGINAL-URL:https://geoforum.no
X-WR-CALDESC:Arrangement for GeoForum
REFRESH-INTERVAL;VALUE=DURATION:PT1H
X-Robots-Tag:noindex
X-PUBLISHED-TTL:PT1H
BEGIN:VTIMEZONE
TZID:Europe/Oslo
BEGIN:DAYLIGHT
TZOFFSETFROM:+0100
TZOFFSETTO:+0200
TZNAME:CEST
DTSTART:20190331T010000
END:DAYLIGHT
BEGIN:STANDARD
TZOFFSETFROM:+0200
TZOFFSETTO:+0100
TZNAME:CET
DTSTART:20191027T010000
END:STANDARD
END:VTIMEZONE
BEGIN:VEVENT
DTSTART;TZID=Europe/Oslo:20190408T090000
DTEND;TZID=Europe/Oslo:20190410T160000
DTSTAMP:20260422T132831
CREATED:20190313T103614Z
LAST-MODIFIED:20190313T103614Z
UID:10011329-1554714000-1554912000@geoforum.no
SUMMARY:Lag Python scripts for ArcGIS
DESCRIPTION:Lær hvordan du lager script for å strømlinjeforme GIS-arbeidet ditt. \nProgram og påmelding \n 
URL:https://geoforum.no/event/lag-python-scripts-for-arcgis/
LOCATION:Geodata Oslo\, Schweigaardsgate 28\, Oslo
CATEGORIES:Eksterne kurs og konferanser
END:VEVENT
END:VCALENDAR