BEGIN:VCALENDAR
VERSION:2.0
PRODID:-//GeoForum - ECPv6.10.0//NONSGML v1.0//EN
CALSCALE:GREGORIAN
METHOD:PUBLISH
X-ORIGINAL-URL:https://geoforum.no
X-WR-CALDESC:Arrangement for GeoForum
REFRESH-INTERVAL;VALUE=DURATION:PT1H
X-Robots-Tag:noindex
X-PUBLISHED-TTL:PT1H
BEGIN:VTIMEZONE
TZID:Europe/Oslo
BEGIN:DAYLIGHT
TZOFFSETFROM:+0100
TZOFFSETTO:+0200
TZNAME:CEST
DTSTART:20190331T010000
END:DAYLIGHT
BEGIN:STANDARD
TZOFFSETFROM:+0200
TZOFFSETTO:+0100
TZNAME:CET
DTSTART:20191027T010000
END:STANDARD
END:VTIMEZONE
BEGIN:VEVENT
DTSTART;TZID=Europe/Oslo:20190307T090000
DTEND;TZID=Europe/Oslo:20190307T150000
DTSTAMP:20260422T150320
CREATED:20190124T081109Z
LAST-MODIFIED:20190124T081109Z
UID:10011312-1551949200-1551970800@geoforum.no
SUMMARY:Posisjonskonferansen 2019
DESCRIPTION:Norsk Romsenter og Kartverker inviterer til Posisjonskonferansen 2019\, som i år har tema «Økt utnyttelse av GNSS-teknologi». Konferansen finner sted 7. mars hos StartupLab sine lokaler i Oslo. Gode foredragsholdere fra privat og offentlig virksomhet. Her er det mulighet for nettverksbygging\, og få innblikk i det siste nye om bruk av GNSS. Gratis arrangement. \nPåmelding: https://www.kartverket.no/Om-Kartverket/Arrangement/posisjonskonferansen-2019/ \n 
URL:https://geoforum.no/event/posisjonskonferansen-2019/
LOCATION:Forskningsparken\, Gaustadalléen 21\, Oslo
CATEGORIES:Eksterne kurs og konferanser
END:VEVENT
END:VCALENDAR