BEGIN:VCALENDAR
VERSION:2.0
PRODID:-//GeoForum - ECPv6.10.0//NONSGML v1.0//EN
CALSCALE:GREGORIAN
METHOD:PUBLISH
X-WR-CALNAME:GeoForum
X-ORIGINAL-URL:https://geoforum.no
X-WR-CALDESC:Arrangement for GeoForum
REFRESH-INTERVAL;VALUE=DURATION:PT1H
X-Robots-Tag:noindex
X-PUBLISHED-TTL:PT1H
BEGIN:VTIMEZONE
TZID:Europe/Oslo
BEGIN:DAYLIGHT
TZOFFSETFROM:+0100
TZOFFSETTO:+0200
TZNAME:CEST
DTSTART:20180325T010000
END:DAYLIGHT
BEGIN:STANDARD
TZOFFSETFROM:+0200
TZOFFSETTO:+0100
TZNAME:CET
DTSTART:20181028T010000
END:STANDARD
END:VTIMEZONE
BEGIN:VEVENT
DTSTART;TZID=Europe/Oslo:20181022T093000
DTEND;TZID=Europe/Oslo:20181023T150000
DTSTAMP:20260422T211127
CREATED:20180529T073920Z
LAST-MODIFIED:20180529T074211Z
UID:10011269-1540200600-1540306800@geoforum.no
SUMMARY:Norkarts brukermøte
DESCRIPTION:Mer informasjon finner du her
URL:https://geoforum.no/event/norkarts-brukermote/
LOCATION:Quality Hotel Expo\, Snarøyveien 20\, Oslo\, 1360
CATEGORIES:Eksterne kurs og konferanser
GEO:59.9024229;10.6280948
X-APPLE-STRUCTURED-LOCATION;VALUE=URI;X-ADDRESS=Quality Hotel Expo Snarøyveien 20 Oslo 1360;X-APPLE-RADIUS=500;X-TITLE=Snarøyveien 20:geo:10.6280948,59.9024229
END:VEVENT
BEGIN:VEVENT
DTSTART;TZID=Europe/Oslo:20181023T093000
DTEND;TZID=Europe/Oslo:20181024T150000
DTSTAMP:20260422T211127
CREATED:20180529T075512Z
LAST-MODIFIED:20180529T075855Z
UID:10011270-1540287000-1540393200@geoforum.no
SUMMARY:DKT 2018
DESCRIPTION:Les mer \n 
URL:https://geoforum.no/event/dkt-2018/
LOCATION:Scandic Fornebu
CATEGORIES:Konferanse
END:VEVENT
END:VCALENDAR