BEGIN:VCALENDAR
VERSION:2.0
PRODID:-//GeoForum - ECPv6.10.0//NONSGML v1.0//EN
CALSCALE:GREGORIAN
METHOD:PUBLISH
X-ORIGINAL-URL:https://geoforum.no
X-WR-CALDESC:Arrangement for GeoForum
REFRESH-INTERVAL;VALUE=DURATION:PT1H
X-Robots-Tag:noindex
X-PUBLISHED-TTL:PT1H
BEGIN:VTIMEZONE
TZID:Europe/Oslo
BEGIN:DAYLIGHT
TZOFFSETFROM:+0100
TZOFFSETTO:+0200
TZNAME:CEST
DTSTART:20180325T010000
END:DAYLIGHT
BEGIN:STANDARD
TZOFFSETFROM:+0200
TZOFFSETTO:+0100
TZNAME:CET
DTSTART:20181028T010000
END:STANDARD
END:VTIMEZONE
BEGIN:VEVENT
DTSTART;TZID=Europe/Oslo:20180614T093000
DTEND;TZID=Europe/Oslo:20180614T153000
DTSTAMP:20260423T045917
CREATED:20180413T094346Z
LAST-MODIFIED:20180528T123251Z
UID:10011260-1528968600-1528990200@geoforum.no
SUMMARY:Seksjoneringskurs
DESCRIPTION:Kurset er praktisk rettet og tar for seg erfaringene som er gjort etter lovendringen som trådte i kraft 1. januar i år.\nKursprogrammet er spesielt tilrettelagt for saksbehandlere innen seksjonering\, planleggere\, utbyggere\, eiendomsmeglere og andre rådgivere. \nDeltakerne oppfordres til å sende inn spørsmål til foredragsholderne i forkant av kurset. Spørsmål sendes inn i forbindelse med påmeldingen. Det blir avsatt god tid til spørsmål. \nProgram \nPåmelding \nFrist for påmelding: 4. juni 2018 \nKurset er godkjent som etterutdanning for eiendomsmeglere. \nTrenger du overnatting i nærheten kan vi foreslå Thon Hotel Vika Atrium.
URL:https://geoforum.no/event/seksjoneringskurs/
LOCATION:Felix konferansesenter\, Aker brygge\, Bryggetorget 3\, Oslo\, 0125
CATEGORIES:Kurs
GEO:59.9101662;10.7250782
X-APPLE-STRUCTURED-LOCATION;VALUE=URI;X-ADDRESS=Felix konferansesenter Aker brygge Bryggetorget 3 Oslo 0125;X-APPLE-RADIUS=500;X-TITLE=Bryggetorget 3:geo:10.7250782,59.9101662
END:VEVENT
BEGIN:VEVENT
DTSTART;TZID=Europe/Oslo:20180614T150000
DTEND;TZID=Europe/Oslo:20180614T220000
DTSTAMP:20260423T045917
CREATED:20180426T123128Z
LAST-MODIFIED:20180612T085628Z
UID:10011261-1528988400-1529013600@geoforum.no
SUMMARY:Sommersamling GeoForum Hordaland
DESCRIPTION:Denne samlingen er avlyst. \n 
URL:https://geoforum.no/event/sommersamling-geoforum-hordaland/
LOCATION:Bergen
CATEGORIES:Temadag lokalt
END:VEVENT
END:VCALENDAR