BEGIN:VCALENDAR
VERSION:2.0
PRODID:-//GeoForum - ECPv6.10.0//NONSGML v1.0//EN
CALSCALE:GREGORIAN
METHOD:PUBLISH
X-ORIGINAL-URL:https://geoforum.no
X-WR-CALDESC:Arrangement for GeoForum
REFRESH-INTERVAL;VALUE=DURATION:PT1H
X-Robots-Tag:noindex
X-PUBLISHED-TTL:PT1H
BEGIN:VTIMEZONE
TZID:Europe/Oslo
BEGIN:DAYLIGHT
TZOFFSETFROM:+0100
TZOFFSETTO:+0200
TZNAME:CEST
DTSTART:20180325T010000
END:DAYLIGHT
BEGIN:STANDARD
TZOFFSETFROM:+0200
TZOFFSETTO:+0100
TZNAME:CET
DTSTART:20181028T010000
END:STANDARD
END:VTIMEZONE
BEGIN:VEVENT
DTSTART;TZID=Europe/Oslo:20180612T090000
DTEND;TZID=Europe/Oslo:20180613T153000
DTSTAMP:20260423T050022
CREATED:20180405T132448Z
LAST-MODIFIED:20180405T132448Z
UID:10011255-1528794000-1528903800@geoforum.no
SUMMARY:Ny generasjon av standarder for bygging av geografisk infrastruktur
DESCRIPTION:Kurset passer for fageksperter innen geomatikk – alle som jobber med geografisk informasjon. \nBruk av standarder er helt sentralt for infrastrukturen. SOSI og andre nasjonale standarder for geografisk informasjon har lenge vært i utbredt bruk. Standardiseringsarbeidet nasjonalt utvikles i samsvar med nye samfunnsbehov\, ny teknologi og nye internasjonale standarder. Kurset har til hensikt å formidle informasjon om de sentrale standardene og hvordan disse brukes. \nPåmelding
URL:https://geoforum.no/event/ny-generasjon-av-standarder-for-bygging-av-geografisk-infrastruktur/
LOCATION:Felix konferansesenter\, Aker brygge\, Bryggetorget 3\, Oslo\, 0125
CATEGORIES:Eksterne kurs og konferanser
GEO:59.9101662;10.7250782
X-APPLE-STRUCTURED-LOCATION;VALUE=URI;X-ADDRESS=Felix konferansesenter Aker brygge Bryggetorget 3 Oslo 0125;X-APPLE-RADIUS=500;X-TITLE=Bryggetorget 3:geo:10.7250782,59.9101662
END:VEVENT
BEGIN:VEVENT
DTSTART;TZID=Europe/Oslo:20180613T090000
DTEND;TZID=Europe/Oslo:20180613T150000
DTSTAMP:20260423T050022
CREATED:20180530T113758Z
LAST-MODIFIED:20180607T095534Z
UID:10011272-1528880400-1528902000@geoforum.no
SUMMARY:Sommermøte i GeoForum Østfold
DESCRIPTION:Program\n09:00 – K A F F E\n \n09:30 – Feilslått matrikkelføring med påfølgende konsekvenser – Torleiv Lohne\, Terratec \n10:00 – Hva er god kartografi\, illustrert med gode og dårlige eksempler – Gunnar Tenge\, NMBU \n10:30 – P A U S E \n10:45 – Status og utfordringer med kommunesammenslåingen i Indre Østfold – Petter Solli Aaserud\, Askim kommune \n11:15 – Status for feillister i forbindelse med kommune- og regionreformen – Jon Kaasa\, Kartverket\n \n11:45 – P A U S E \n12:00 – Støykartlegging – Ole Anton Engen\, Brekke & Strand Akustikk  \n13:00 – L U N S J \n14:00 – Ut på tur/Vi tester badetemperaturen 🙂\n \n  \nBindende påmelding på epost til Nadja Stumberg innen fredag 8. juni kl. 15!
URL:https://geoforum.no/event/sommermote-i-geoforum-ostfold/
LOCATION:Hankø Hotell\, Vikaneveien 405\, Gressvik\, 1621\, Norge
END:VEVENT
END:VCALENDAR