BEGIN:VCALENDAR
VERSION:2.0
PRODID:-//GeoForum - ECPv6.10.0//NONSGML v1.0//EN
CALSCALE:GREGORIAN
METHOD:PUBLISH
X-WR-CALNAME:GeoForum
X-ORIGINAL-URL:https://geoforum.no
X-WR-CALDESC:Arrangement for GeoForum
REFRESH-INTERVAL;VALUE=DURATION:PT1H
X-Robots-Tag:noindex
X-PUBLISHED-TTL:PT1H
BEGIN:VTIMEZONE
TZID:Europe/Oslo
BEGIN:DAYLIGHT
TZOFFSETFROM:+0100
TZOFFSETTO:+0200
TZNAME:CEST
DTSTART:20180325T010000
END:DAYLIGHT
BEGIN:STANDARD
TZOFFSETFROM:+0200
TZOFFSETTO:+0100
TZNAME:CET
DTSTART:20181028T010000
END:STANDARD
END:VTIMEZONE
BEGIN:VEVENT
DTSTART;TZID=Europe/Oslo:20180607T140000
DTEND;TZID=Europe/Oslo:20180607T200000
DTSTAMP:20260423T050258
CREATED:20180426T124330Z
LAST-MODIFIED:20180529T072953Z
UID:10011262-1528380000-1528401600@geoforum.no
SUMMARY:Tur i kloakken i Oslo
DESCRIPTION:Geoforum Oslo og Akershus arrangerer temadag hos Bekkelaget renseanlegg. Det blir informasjon om anlegget og arbeidet med prosjektet Midgardsormen\, samt mulighet for en befaring av anlegget. Les mer her \nEtter besøket på renseanlegget tar vi bussen inn til Oslo sentrum hvor feirer sommeren med god mat og drikke. \nTentativ program: \n14:00  – Oppmøte ved renseanlegget. Vi viser dere inn. \n14:15  –  Presentasjon av renseanlegget ved Jan Kopperstad\, Vann- og avløpsetaten i Oslo kommune. \n15:00 – Innmåling og kontroll av utbygging på Midgardsormen og renseanlegget ved Kjell Skullerud\, Cowi. \n15:30 – Befaring på renseanlegget (alle får vernesko og hjelm\, ta ev med selv hvis du har). \n16:30 – Buss til Bjørvika og felles middag og påfølgende #Geobeer \nPåmelding
URL:https://geoforum.no/event/tur-i-kloakken-i-oslo/
LOCATION:Bekkelaget renseanlegg\, Kolleveien 2\, Oslo\, Oslo\, Norge
CATEGORIES:Temadag lokalt
GEO:59.8836864;10.7682194
X-APPLE-STRUCTURED-LOCATION;VALUE=URI;X-ADDRESS=Bekkelaget renseanlegg Kolleveien 2 Oslo Oslo Norge;X-APPLE-RADIUS=500;X-TITLE=Kolleveien 2:geo:10.7682194,59.8836864
END:VEVENT
END:VCALENDAR