BEGIN:VCALENDAR
VERSION:2.0
PRODID:-//GeoForum - ECPv6.10.0//NONSGML v1.0//EN
CALSCALE:GREGORIAN
METHOD:PUBLISH
X-ORIGINAL-URL:https://geoforum.no
X-WR-CALDESC:Arrangement for GeoForum
REFRESH-INTERVAL;VALUE=DURATION:PT1H
X-Robots-Tag:noindex
X-PUBLISHED-TTL:PT1H
BEGIN:VTIMEZONE
TZID:Europe/Oslo
BEGIN:DAYLIGHT
TZOFFSETFROM:+0100
TZOFFSETTO:+0200
TZNAME:CEST
DTSTART:20180325T010000
END:DAYLIGHT
BEGIN:STANDARD
TZOFFSETFROM:+0200
TZOFFSETTO:+0100
TZNAME:CET
DTSTART:20181028T010000
END:STANDARD
END:VTIMEZONE
BEGIN:VEVENT
DTSTART;TZID=Europe/Oslo:20180418T090000
DTEND;TZID=Europe/Oslo:20180418T143000
DTSTAMP:20260423T074411
CREATED:20180413T081749Z
LAST-MODIFIED:20180413T084353Z
UID:10011259-1524042000-1524061800@geoforum.no
SUMMARY:Årsmøte 2018 - GeoForum Østfold
DESCRIPTION:Program \n09:15               K A F F E \n09:30               Årsmøte \n10:30               Medlemsmøte \n10:30 – Hvordan kommunisere med innbyggere via kart? – v/ Jørn Kristiansen og Knut Fredrik Sæther\, Geodata AS og Sarpsborg kommune \n11:30 – L U N S J \n12:30 – Nytt WEB-kart i Fredrikstad kommune – v/Geir Anker\, Fredrikstad kommune \n12:50 – Kartportal for Indre Østfoldsamarbeidet – v/ Astrid Bjørnerød\, Askim kommune \n13:15 – P A U S E \n13:30 – Erfaringer med saksbehandling etter ny eierseksjonslov – v/ Anita Skårer\, Fredrikstad kommune \n14:00 – Kvalitetsheving av bygningsarealet i matrikkelen tatt fra FKB – v/Christian Andresen\, Norkart AS \nMøtet avsluttes ca. 14:30.
URL:https://geoforum.no/event/arsmote-2018-geoforum-ostfold/
LOCATION:Tune rådhus\, Tuneveien 95\, Sarpsborg\, Østfold\, 1712\, Norge
END:VEVENT
END:VCALENDAR