BEGIN:VCALENDAR
VERSION:2.0
PRODID:-//GeoForum - ECPv6.10.0//NONSGML v1.0//EN
CALSCALE:GREGORIAN
METHOD:PUBLISH
X-ORIGINAL-URL:https://geoforum.no
X-WR-CALDESC:Arrangement for GeoForum
REFRESH-INTERVAL;VALUE=DURATION:PT1H
X-Robots-Tag:noindex
X-PUBLISHED-TTL:PT1H
BEGIN:VTIMEZONE
TZID:Europe/Oslo
BEGIN:DAYLIGHT
TZOFFSETFROM:+0100
TZOFFSETTO:+0200
TZNAME:CEST
DTSTART:20180325T010000
END:DAYLIGHT
BEGIN:STANDARD
TZOFFSETFROM:+0200
TZOFFSETTO:+0100
TZNAME:CET
DTSTART:20181028T010000
END:STANDARD
END:VTIMEZONE
BEGIN:VEVENT
DTSTART;TZID=Europe/Oslo:20180228T090000
DTEND;TZID=Europe/Oslo:20180228T153000
DTSTAMP:20260423T085735
CREATED:20180205T100232Z
LAST-MODIFIED:20180316T083749Z
UID:10011250-1519808400-1519831800@geoforum.no
SUMMARY:Fagdag og årsmøte GeoForum Telemark
DESCRIPTION:GeoForum Telemark avholder fagdag og årsmøte onsdag 28. februar på Bø hotell. \nBindende påmelding sendes til solveig.u.hagen@vinje.kommune.no  innen onsdag 14. februar. \nFagdagen og årsmøtet koster 500 kr for personlige medlemmer. For bedriftsmedlemmer og ikke-medlemmer er prisen kr 800\,- inkl. lunsj. \nInvitasjon og Program-Fagdag-Årsmøte2018 \nÅrsmøte 2018
URL:https://geoforum.no/event/fagdag-og-arsmote-geoforum-telemark/
LOCATION:Bø hotell\, Gullbringvegen 32\, Bø\, 3800
CATEGORIES:Temadag lokalt
END:VEVENT
END:VCALENDAR