BEGIN:VCALENDAR
VERSION:2.0
PRODID:-//GeoForum - ECPv6.10.0//NONSGML v1.0//EN
CALSCALE:GREGORIAN
METHOD:PUBLISH
X-ORIGINAL-URL:https://geoforum.no
X-WR-CALDESC:Arrangement for GeoForum
REFRESH-INTERVAL;VALUE=DURATION:PT1H
X-Robots-Tag:noindex
X-PUBLISHED-TTL:PT1H
BEGIN:VTIMEZONE
TZID:Europe/Oslo
BEGIN:DAYLIGHT
TZOFFSETFROM:+0100
TZOFFSETTO:+0200
TZNAME:CEST
DTSTART:20180325T010000
END:DAYLIGHT
BEGIN:STANDARD
TZOFFSETFROM:+0200
TZOFFSETTO:+0100
TZNAME:CET
DTSTART:20181028T010000
END:STANDARD
END:VTIMEZONE
BEGIN:VEVENT
DTSTART;TZID=Europe/Oslo:20180214T090000
DTEND;TZID=Europe/Oslo:20180215T140000
DTSTAMP:20260423T102723
CREATED:20170425T074558Z
LAST-MODIFIED:20180214T094050Z
UID:10011129-1518598800-1518703200@geoforum.no
SUMMARY:Lokale Geomatikkdager Troms og Finnmark 2018
DESCRIPTION:Lokale Geomatikkdager arrangeres 14.-15. februar på Scandic Hotell Alta. \nEn faglig samling for brukere\, forvaltere og produsenter innenfor geomatikk\, GIS og geodata. \nMålet med arrangementet er å gi informasjon om ny viten og utvikling innen fagområdet\, og å være et forum for utveksling av erfaringer mellom kommunal\, privat og statlig sektor. \nVi har i år et innholdsrikt program med parallell sesjoner. Dette håper vi kan gi deg et godt faglig påfyll\, både hva angår ditt daglige arbeid\, men også hva som rører seg ellers i fagmiljøet. Du er herved invitert til de lokale geomatikkdagene 2018 for Troms og Finnmark med flere utstillere. \nGeomatikkdagene Troms og Finnmark 14-15 februar 2018 \nPåmelding \nPåmeldingsfrist 10. januar
URL:https://geoforum.no/event/lokale-geomatikkdager-troms-og-finnmark-2018/
LOCATION:Scandic Alta\, Løkkeveien 61\, Alta\, 9509
CATEGORIES:Lokale geomatikkdager
GEO:69.9660019;23.269201
X-APPLE-STRUCTURED-LOCATION;VALUE=URI;X-ADDRESS=Scandic Alta Løkkeveien 61 Alta 9509;X-APPLE-RADIUS=500;X-TITLE=Løkkeveien 61:geo:23.269201,69.9660019
END:VEVENT
END:VCALENDAR