BEGIN:VCALENDAR
VERSION:2.0
PRODID:-//GeoForum - ECPv6.10.0//NONSGML v1.0//EN
CALSCALE:GREGORIAN
METHOD:PUBLISH
X-ORIGINAL-URL:https://geoforum.no
X-WR-CALDESC:Arrangement for GeoForum
REFRESH-INTERVAL;VALUE=DURATION:PT1H
X-Robots-Tag:noindex
X-PUBLISHED-TTL:PT1H
BEGIN:VTIMEZONE
TZID:Europe/Oslo
BEGIN:DAYLIGHT
TZOFFSETFROM:+0100
TZOFFSETTO:+0200
TZNAME:CEST
DTSTART:20180325T010000
END:DAYLIGHT
BEGIN:STANDARD
TZOFFSETFROM:+0200
TZOFFSETTO:+0100
TZNAME:CET
DTSTART:20181028T010000
END:STANDARD
END:VTIMEZONE
BEGIN:VEVENT
DTSTART;TZID=Europe/Oslo:20180212T080000
DTEND;TZID=Europe/Oslo:20180213T130000
DTSTAMP:20260423T102655
CREATED:20170518T104718Z
LAST-MODIFIED:20180122T095710Z
UID:10011135-1518422400-1518526800@geoforum.no
SUMMARY:Stikningskonferansen 2018
DESCRIPTION:  \n  \n  \n  \n  \n12.-13. februar er det Stikningskonferansen som gjelder. I år arrangeres konferansen på Scandic Fornebu\, etter mange år på Gardermoen. \nStikningskonferansen er en anleggs- og infrastrukturkonferanse for stikkere\, entreprenører\, rådgivere\, byggherrer og leverandører av tjenester knyttet til stikning og infrastrukturarbeid. Vi forventer at det kommer 250 deltakere på konferansen – og programmet skal være klart i løpet av desember! \nProgram_ Stikningskonferansen 2018_ \nPåmelding \nStikningskonferansen 2018 – invitasjon til utstillere \n 
URL:https://geoforum.no/event/stikningskonferansen-2018/
LOCATION:Scandic Fornebu\, Martin Linges vei 2\, 1364
CATEGORIES:Konferanse
GEO:59.8972309;10.6323839
X-APPLE-STRUCTURED-LOCATION;VALUE=URI;X-ADDRESS=Scandic Fornebu Martin Linges vei 2 1364;X-APPLE-RADIUS=500;X-TITLE=Martin Linges vei 2:geo:10.6323839,59.8972309
END:VEVENT
END:VCALENDAR