BEGIN:VCALENDAR
VERSION:2.0
PRODID:-//GeoForum - ECPv6.10.0//NONSGML v1.0//EN
CALSCALE:GREGORIAN
METHOD:PUBLISH
X-ORIGINAL-URL:https://geoforum.no
X-WR-CALDESC:Arrangement for GeoForum
REFRESH-INTERVAL;VALUE=DURATION:PT1H
X-Robots-Tag:noindex
X-PUBLISHED-TTL:PT1H
BEGIN:VTIMEZONE
TZID:Europe/Oslo
BEGIN:DAYLIGHT
TZOFFSETFROM:+0100
TZOFFSETTO:+0200
TZNAME:CEST
DTSTART:20180325T010000
END:DAYLIGHT
BEGIN:STANDARD
TZOFFSETFROM:+0200
TZOFFSETTO:+0100
TZNAME:CET
DTSTART:20181028T010000
END:STANDARD
END:VTIMEZONE
BEGIN:VEVENT
DTSTART;TZID=Europe/Oslo:20180117T080000
DTEND;TZID=Europe/Oslo:20180118T130000
DTSTAMP:20260423T120210
CREATED:20170627T140514Z
LAST-MODIFIED:20171220T201130Z
UID:10011226-1516176000-1516280400@geoforum.no
SUMMARY:X\, Y og Z 2018
DESCRIPTION:Konferansen arrangeres 17.-18. januar på Scandic Neptun i Bergen! \nI tillegg til det faglige programmet jobber vi nå med å tilby noen spennende aktiviteter på ettermiddagen den 17. januar! \nVi vil også opprette et treffpunkt den 16. januar for dem som kommer tilreisende dagen før konferansen\, for uformell mingling! \nProgram XYZ 2018 \nPåmelding \nPåmeldingsfrist er 18. desember. Ved påmelding etter denne dato øker prisen med kr 500\,-
URL:https://geoforum.no/event/x-y-og-z-2018/
LOCATION:Scandic Neptun\, Bergen
CATEGORIES:Konferanse
GEO:60.3912628;5.3220544
END:VEVENT
END:VCALENDAR