BEGIN:VCALENDAR
VERSION:2.0
PRODID:-//GeoForum - ECPv6.10.0//NONSGML v1.0//EN
CALSCALE:GREGORIAN
METHOD:PUBLISH
X-WR-CALNAME:GeoForum
X-ORIGINAL-URL:https://geoforum.no
X-WR-CALDESC:Arrangement for GeoForum
REFRESH-INTERVAL;VALUE=DURATION:PT1H
X-Robots-Tag:noindex
X-PUBLISHED-TTL:PT1H
BEGIN:VTIMEZONE
TZID:Europe/Oslo
BEGIN:DAYLIGHT
TZOFFSETFROM:+0100
TZOFFSETTO:+0200
TZNAME:CEST
DTSTART:20170326T010000
END:DAYLIGHT
BEGIN:STANDARD
TZOFFSETFROM:+0200
TZOFFSETTO:+0100
TZNAME:CET
DTSTART:20171029T010000
END:STANDARD
END:VTIMEZONE
BEGIN:VEVENT
DTSTART;TZID=Europe/Oslo:20171122T080000
DTEND;TZID=Europe/Oslo:20171123T170000
DTSTAMP:20260423T151101
CREATED:20170418T122610Z
LAST-MODIFIED:20170418T122805Z
UID:10011127-1511337600-1511456400@geoforum.no
SUMMARY:Smarta städer
DESCRIPTION:Smarta städer 2017 är mötesplatsen där organisationer\, myndigheter\, verksamma utövare och intressenter för första gången kan samlas och utbyta kunskap\, idéer och tjänster. Genom att aktivt delta i gemensamma initiativ för att lära och söka nya lösningar kan vi få utvecklingen av smarta och hållbara städer kan gå framåt. \nKonferensen arrangeras av Easyfairs i samarbete med ULI Geoforum\, branschorganisationen inom geodataområdet. Deltagarna får ny kunskap och senaste rönen\, riktlinjer\, inspiration och ett breddat kontaktnät som underlättar nya utmaningar i praktiken. Programmet som helhet kommer vara agendasättande för definitionen av smarta städer\, ge branschen en överblick av trender och planerade projekt samt leverera processverktyg och förklaringsmodeller som kan omsättas i det praktiska arbetet för deltagarna. \n 
URL:https://geoforum.no/event/smarta-stader/
LOCATION:Kistmæssan\, Stockholm
CATEGORIES:Eksterne kurs og konferanser
GEO:59.3293235;18.0685808
END:VEVENT
END:VCALENDAR