BEGIN:VCALENDAR
VERSION:2.0
PRODID:-//GeoForum - ECPv6.10.0//NONSGML v1.0//EN
CALSCALE:GREGORIAN
METHOD:PUBLISH
X-ORIGINAL-URL:https://geoforum.no
X-WR-CALDESC:Arrangement for GeoForum
REFRESH-INTERVAL;VALUE=DURATION:PT1H
X-Robots-Tag:noindex
X-PUBLISHED-TTL:PT1H
BEGIN:VTIMEZONE
TZID:Europe/Oslo
BEGIN:DAYLIGHT
TZOFFSETFROM:+0100
TZOFFSETTO:+0200
TZNAME:CEST
DTSTART:20170326T010000
END:DAYLIGHT
BEGIN:STANDARD
TZOFFSETFROM:+0200
TZOFFSETTO:+0100
TZNAME:CET
DTSTART:20171029T010000
END:STANDARD
END:VTIMEZONE
BEGIN:VEVENT
DTSTART;TZID=Europe/Oslo:20171115T090000
DTEND;TZID=Europe/Oslo:20171116T150000
DTSTAMP:20260423T151532
CREATED:20170518T091334Z
LAST-MODIFIED:20171114T083524Z
UID:10011131-1510736400-1510844400@geoforum.no
SUMMARY:Geodesi- og hydrografidagene 2017
DESCRIPTION:Årets konferanse arrangeres på Sundvolden Hotel 15.-16. november. Konferansen kan også i år by på 20 faglige foredrag som er et must for alle som er opptatt av geodesi- og hydrografi. Vi er også svært takknemlige for at Bjørn Geirr Harsson har sagt seg villig til å kåsere under festmiddagen. \nProgram Geodesi- og hydrografidagene 2017_14.11.17 \nPåmelding
URL:https://geoforum.no/event/geodesi-og-hydrografidagene-2017/
LOCATION:Sundvolden hotell\, Dronningveien 2\, Krokkleiva\, 3531
CATEGORIES:Konferanse
GEO:60.0620401;10.3104302
X-APPLE-STRUCTURED-LOCATION;VALUE=URI;X-ADDRESS=Sundvolden hotell Dronningveien 2 Krokkleiva 3531;X-APPLE-RADIUS=500;X-TITLE=Dronningveien 2:geo:10.3104302,60.0620401
END:VEVENT
BEGIN:VEVENT
DTSTART;TZID=Europe/Oslo:20171116T090000
DTEND;TZID=Europe/Oslo:20171117T160000
DTSTAMP:20260423T151532
CREATED:20170601T095123Z
LAST-MODIFIED:20170601T095123Z
UID:10011211-1510822800-1510934400@geoforum.no
SUMMARY:GISLINE Brukermøte 2017 Trondheim Airport
DESCRIPTION:Les mer
URL:https://geoforum.no/event/gisline-brukermote-2017-trondheim-airport/
LOCATION:Radisson Blu Hotel Trondheim Airport
CATEGORIES:Eksterne kurs og konferanser
END:VEVENT
END:VCALENDAR