BEGIN:VCALENDAR
VERSION:2.0
PRODID:-//GeoForum - ECPv6.10.0//NONSGML v1.0//EN
CALSCALE:GREGORIAN
METHOD:PUBLISH
X-ORIGINAL-URL:https://geoforum.no
X-WR-CALDESC:Arrangement for GeoForum
REFRESH-INTERVAL;VALUE=DURATION:PT1H
X-Robots-Tag:noindex
X-PUBLISHED-TTL:PT1H
BEGIN:VTIMEZONE
TZID:Europe/Oslo
BEGIN:DAYLIGHT
TZOFFSETFROM:+0100
TZOFFSETTO:+0200
TZNAME:CEST
DTSTART:20170326T010000
END:DAYLIGHT
BEGIN:STANDARD
TZOFFSETFROM:+0200
TZOFFSETTO:+0100
TZNAME:CET
DTSTART:20171029T010000
END:STANDARD
END:VTIMEZONE
BEGIN:VEVENT
DTSTART;TZID=Europe/Oslo:20171114T090000
DTEND;TZID=Europe/Oslo:20171115T150000
DTSTAMP:20260423T145949
CREATED:20170601T125458Z
LAST-MODIFIED:20170601T125458Z
UID:10011221-1510650000-1510758000@geoforum.no
SUMMARY:Teknologiforum
DESCRIPTION:Kartverket arrangerer Teknologiforum \nLes mer
URL:https://geoforum.no/event/teknologiforum/
LOCATION:Park Inn Oslo Airport
CATEGORIES:Eksterne kurs og konferanser
END:VEVENT
END:VCALENDAR