BEGIN:VCALENDAR
VERSION:2.0
PRODID:-//GeoForum - ECPv6.10.0//NONSGML v1.0//EN
CALSCALE:GREGORIAN
METHOD:PUBLISH
X-ORIGINAL-URL:https://geoforum.no
X-WR-CALDESC:Arrangement for GeoForum
REFRESH-INTERVAL;VALUE=DURATION:PT1H
X-Robots-Tag:noindex
X-PUBLISHED-TTL:PT1H
BEGIN:VTIMEZONE
TZID:Europe/Oslo
BEGIN:DAYLIGHT
TZOFFSETFROM:+0100
TZOFFSETTO:+0200
TZNAME:CEST
DTSTART:20170326T010000
END:DAYLIGHT
BEGIN:STANDARD
TZOFFSETFROM:+0200
TZOFFSETTO:+0100
TZNAME:CET
DTSTART:20171029T010000
END:STANDARD
END:VTIMEZONE
BEGIN:VEVENT
DTSTART;TZID=Europe/Oslo:20170905T100000
DTEND;TZID=Europe/Oslo:20170906T140000
DTSTAMP:20260423T185716
CREATED:20170807T105017Z
LAST-MODIFIED:20170807T105727Z
UID:10011231-1504605600-1504706400@geoforum.no
SUMMARY:Fagdag veg og AU-Basismøte
DESCRIPTION:Velkommen til en nyttig fagdag om veg\, den 5. september på Wadahl høgfjellshotell på Gålå. Vi vil ta for oss tema som; NVDB\, Vegkart\, Grunnerverv\, kontroll av ferdigveg-data samt andre tema. Fagdagen vil ha en praktisk tilnærming med eksempler som kommunen kan ha nytte av i hverdagen. Etter fagdagen er alle hjertelig velkommen til å være med på en 1-2 timers fottur i nærområdet- vi ønsker å vite hvor mange som blir med\, da det vil bli bestilt enkel mat til turen. Dette er i tillegg påmelding for AU-Basis møtet den 6. september. \nProgram Fagdag Veg 5 september \nPris for medlemmer av GeoForum: kr 500\, – \nPris for ikke-medlemmer; kr 800\, – \nPåmelding \nPåmeldingsfrist: 28. august
URL:https://geoforum.no/event/fagdag-veg-og-au-basismote/
LOCATION:Wadahl høyfjellshotell\, Gålå
CATEGORIES:Temadag lokalt
GEO:61.505723;9.7841956
END:VEVENT
BEGIN:VEVENT
DTSTART;TZID=Europe/Oslo:20170906T090000
DTEND;TZID=Europe/Oslo:20170907T153000
DTSTAMP:20260423T185716
CREATED:20170710T081957Z
LAST-MODIFIED:20170710T081958Z
UID:10011229-1504688400-1504798200@geoforum.no
SUMMARY:Eiendomsrettseminar
DESCRIPTION:Kartverket inviterer til det årlige eiendomsrettsseminaret\, 6.-7. september 2017 på Sundvolden Hotel. Til seminaret kommer spennende foredragsholdere som gir oss oppdaterte foredrag fra aktuelle temaer innenfor eiendomsrett og tinglysing. \nLink til mer informasjon\, program og påmelding \n 
URL:https://geoforum.no/event/eiendomsrettseminar/
LOCATION:Sundvolden hotell\, Dronningveien 2\, Krokkleiva\, 3531
CATEGORIES:Eksterne kurs og konferanser
GEO:60.0626708;10.3105253
X-APPLE-STRUCTURED-LOCATION;VALUE=URI;X-ADDRESS=Sundvolden hotell Dronningveien 2 Krokkleiva 3531;X-APPLE-RADIUS=500;X-TITLE=Dronningveien 2:geo:10.3105253,60.0626708
END:VEVENT
END:VCALENDAR