BEGIN:VCALENDAR
VERSION:2.0
PRODID:-//GeoForum - ECPv6.10.0//NONSGML v1.0//EN
CALSCALE:GREGORIAN
METHOD:PUBLISH
X-ORIGINAL-URL:https://geoforum.no
X-WR-CALDESC:Arrangement for GeoForum
REFRESH-INTERVAL;VALUE=DURATION:PT1H
X-Robots-Tag:noindex
X-PUBLISHED-TTL:PT1H
BEGIN:VTIMEZONE
TZID:Europe/Oslo
BEGIN:DAYLIGHT
TZOFFSETFROM:+0100
TZOFFSETTO:+0200
TZNAME:CEST
DTSTART:20170326T010000
END:DAYLIGHT
BEGIN:STANDARD
TZOFFSETFROM:+0200
TZOFFSETTO:+0100
TZNAME:CET
DTSTART:20171029T010000
END:STANDARD
END:VTIMEZONE
BEGIN:VEVENT
DTSTART;TZID=Europe/Oslo:20170502T090000
DTEND;TZID=Europe/Oslo:20170503T140000
DTSTAMP:20260424T013837
CREATED:20170209T124503Z
LAST-MODIFIED:20170209T124653Z
UID:10011194-1493715600-1493820000@geoforum.no
SUMMARY:FME World Tour 2017
DESCRIPTION:  \n \nVelkommen til FME World Tour 2017 i Trondheim! \n\n\n\n\n\n\n\nI år blir 1 av 70 destinasjoner i verden i Trondheim\, Nova konferansesenter. Og det blir det fjerde året vi i Norkart kjører dette arrangementet sammen med Safe Software. På tirsdag 2. mai blir det Kurs / Workshop – og onsdag 3. mai blir selve FME World Tour konferansen. \nSe program og finn link til påmelding her \nPåmeldingsfrist; 26. april. \n 
URL:https://geoforum.no/event/fme-world-tour-2017/
LOCATION:Nova konferansesenter\, Cicignons Plass\, Trondheim\, Norge
CATEGORIES:Eksterne kurs og konferanser
GEO:63.4326327;10.4007617
X-APPLE-STRUCTURED-LOCATION;VALUE=URI;X-ADDRESS=Nova konferansesenter Cicignons Plass Trondheim Norge;X-APPLE-RADIUS=500;X-TITLE=Cicignons Plass:geo:10.4007617,63.4326327
END:VEVENT
END:VCALENDAR