BEGIN:VCALENDAR
VERSION:2.0
PRODID:-//GeoForum - ECPv6.10.0//NONSGML v1.0//EN
CALSCALE:GREGORIAN
METHOD:PUBLISH
X-WR-CALNAME:GeoForum
X-ORIGINAL-URL:https://geoforum.no
X-WR-CALDESC:Arrangement for GeoForum
REFRESH-INTERVAL;VALUE=DURATION:PT1H
X-Robots-Tag:noindex
X-PUBLISHED-TTL:PT1H
BEGIN:VTIMEZONE
TZID:Europe/Oslo
BEGIN:DAYLIGHT
TZOFFSETFROM:+0100
TZOFFSETTO:+0200
TZNAME:CEST
DTSTART:20170326T010000
END:DAYLIGHT
BEGIN:STANDARD
TZOFFSETFROM:+0200
TZOFFSETTO:+0100
TZNAME:CET
DTSTART:20171029T010000
END:STANDARD
END:VTIMEZONE
BEGIN:VEVENT
DTSTART;TZID=Europe/Oslo:20170328T100000
DTEND;TZID=Europe/Oslo:20170330T150000
DTSTAMP:20260424T024730
CREATED:20160831T094718Z
LAST-MODIFIED:20160831T172900Z
UID:10011174-1490695200-1490886000@geoforum.no
SUMMARY:Geomatikkdagene 2017
DESCRIPTION:Oppdatert informasjon legges her
URL:https://geoforum.no/event/geomatikkdagene-2017/
LOCATION:Lillehammer Hotell\, Turisthotellvegen 6\, Lillhammer\, 2609
CATEGORIES:Konferanse
GEO:61.1173308;10.4771352
X-APPLE-STRUCTURED-LOCATION;VALUE=URI;X-ADDRESS=Lillehammer Hotell Turisthotellvegen 6 Lillhammer 2609;X-APPLE-RADIUS=500;X-TITLE=Turisthotellvegen 6:geo:10.4771352,61.1173308
END:VEVENT
END:VCALENDAR