BEGIN:VCALENDAR
VERSION:2.0
PRODID:-//GeoForum - ECPv6.10.0//NONSGML v1.0//EN
CALSCALE:GREGORIAN
METHOD:PUBLISH
X-ORIGINAL-URL:https://geoforum.no
X-WR-CALDESC:Arrangement for GeoForum
REFRESH-INTERVAL;VALUE=DURATION:PT1H
X-Robots-Tag:noindex
X-PUBLISHED-TTL:PT1H
BEGIN:VTIMEZONE
TZID:Europe/Oslo
BEGIN:DAYLIGHT
TZOFFSETFROM:+0100
TZOFFSETTO:+0200
TZNAME:CEST
DTSTART:20170326T010000
END:DAYLIGHT
BEGIN:STANDARD
TZOFFSETFROM:+0200
TZOFFSETTO:+0100
TZNAME:CET
DTSTART:20171029T010000
END:STANDARD
END:VTIMEZONE
BEGIN:VEVENT
DTSTART;TZID=Europe/Oslo:20170315T090000
DTEND;TZID=Europe/Oslo:20170316T154500
DTSTAMP:20260424T041313
CREATED:20170123T122751Z
LAST-MODIFIED:20170214T111918Z
UID:10011192-1489568400-1489679100@geoforum.no
SUMMARY:Geomatikkdagene i Nordland 2017
DESCRIPTION:En faglig samling for brukere\, forvaltere og produsenter innenfor geomatikk\, kart/oppmåling\, GIS og geodata. \nProgram Geomatikkdagene i Nordland 2017 v 20170214 \nPåmelding \nPåmeldingsfrist; 17. februar. Ved påmelding etter 17. februar øker prisen med kr 250\,-/500\,- avhengig av type deltakelse.
URL:https://geoforum.no/event/geomatikkdagene-i-nordland-2017/
LOCATION:Thon Hotell Nordlys\, Moloveien 14\, Bodø\, 8003
CATEGORIES:Lokale geomatikkdager
GEO:67.2808057;14.3729354
X-APPLE-STRUCTURED-LOCATION;VALUE=URI;X-ADDRESS=Thon Hotell Nordlys Moloveien 14 Bodø 8003;X-APPLE-RADIUS=500;X-TITLE=Moloveien 14:geo:14.3729354,67.2808057
END:VEVENT
END:VCALENDAR