BEGIN:VCALENDAR
VERSION:2.0
PRODID:-//GeoForum - ECPv6.10.0//NONSGML v1.0//EN
CALSCALE:GREGORIAN
METHOD:PUBLISH
X-WR-CALNAME:GeoForum
X-ORIGINAL-URL:https://geoforum.no
X-WR-CALDESC:Arrangement for GeoForum
REFRESH-INTERVAL;VALUE=DURATION:PT1H
X-Robots-Tag:noindex
X-PUBLISHED-TTL:PT1H
BEGIN:VTIMEZONE
TZID:Europe/Oslo
BEGIN:DAYLIGHT
TZOFFSETFROM:+0100
TZOFFSETTO:+0200
TZNAME:CEST
DTSTART:20170326T010000
END:DAYLIGHT
BEGIN:STANDARD
TZOFFSETFROM:+0200
TZOFFSETTO:+0100
TZNAME:CET
DTSTART:20171029T010000
END:STANDARD
END:VTIMEZONE
BEGIN:VEVENT
DTSTART;TZID=Europe/Oslo:20170215T093000
DTEND;TZID=Europe/Oslo:20170217T150000
DTSTAMP:20260424T064121
CREATED:20161123T190406Z
LAST-MODIFIED:20161123T190443Z
UID:10011191-1487151000-1487343600@geoforum.no
SUMMARY:Geodata arrangerer Esri norske brukerkonferanse 2017
DESCRIPTION:15.– 17. februar 2017 inviterer Geodata deg til tre dager med faglig påfyll og inspirasjon på Scandic hotell Fornebu. Den kommende brukerkonferansen vill ha det ypperste faglige innholdet GIS-Norge har å tilby\, i tillegg til en god dose sosiale aktiviteter.  \n  \nFjorårets konferanse samlet om lag 400 deltagere og holdt et faglig nivå som bekrefter statusen som en av Norges viktigste møteplasser for ArcGIS-brukere. På brukerkonferansen får du både innblikk i og dybdekunnskap om den nyeste Esri-teknologien. I tillegg får du høre andre dele sine erfaringer fra ulike bransjer i en rekke brukerforedrag der du får innsikt i både prosess og løsning. Vi lover både ny kunnskap og massevis av inspirasjon. \nI tradisjon tro vil det også denne gangen bli arrangert uformell aften og festaften. Begge arrangementer vil holdes i hjertet av Oslo\, og det vil bli satt opp transport til og fra konferansehotellet. Dette er en fin mulighet til å bli bedre kjent og knytte nye forbindelser med andre konferansedeltagere utenfor «fagarenaen». \nMeld deg på før 15.desember og spar 1000 kr – vi gleder oss til å se deg i februar 2017. \nMer informasjon om Esri norsk brukerkonferanse \nhttp://geodata.no/kurs-og-events/brukerkonferanser/norsk-bk/ \nepost: norskBK@geodata.no
URL:https://geoforum.no/event/geodata-arrangerer-esri-norske-brukerkonferanse-2017/
LOCATION:Scandic Fornebu\, Martin Linges vei 2\, 1364
CATEGORIES:Eksterne kurs og konferanser
GEO:59.8972309;10.6323839
X-APPLE-STRUCTURED-LOCATION;VALUE=URI;X-ADDRESS=Scandic Fornebu Martin Linges vei 2 1364;X-APPLE-RADIUS=500;X-TITLE=Martin Linges vei 2:geo:10.6323839,59.8972309
END:VEVENT
END:VCALENDAR