BEGIN:VCALENDAR
VERSION:2.0
PRODID:-//GeoForum - ECPv6.10.0//NONSGML v1.0//EN
CALSCALE:GREGORIAN
METHOD:PUBLISH
X-WR-CALNAME:GeoForum
X-ORIGINAL-URL:https://geoforum.no
X-WR-CALDESC:Arrangement for GeoForum
REFRESH-INTERVAL;VALUE=DURATION:PT1H
X-Robots-Tag:noindex
X-PUBLISHED-TTL:PT1H
BEGIN:VTIMEZONE
TZID:Europe/Oslo
BEGIN:DAYLIGHT
TZOFFSETFROM:+0100
TZOFFSETTO:+0200
TZNAME:CEST
DTSTART:20170326T010000
END:DAYLIGHT
BEGIN:STANDARD
TZOFFSETFROM:+0200
TZOFFSETTO:+0100
TZNAME:CET
DTSTART:20171029T010000
END:STANDARD
END:VTIMEZONE
BEGIN:VEVENT
DTSTART;TZID=Europe/Oslo:20170118T080000
DTEND;TZID=Europe/Oslo:20170119T130000
DTSTAMP:20260424T081255
CREATED:20160830T131200Z
LAST-MODIFIED:20161219T084754Z
UID:10011173-1484726400-1484830800@geoforum.no
SUMMARY:X\, Y og Z 2017
DESCRIPTION:I januar arrangeres X\, Y og Z i Tromsø! Turister fra inn- og utland valfarter til Tromsø i januar – og nå gir vi deltakerne en gyllen anledning til å oppleve byen i høysesongen for nordlys. \nProgram X\, Y og Z 2017 \nPåmelding
URL:https://geoforum.no/event/x-y-og-z-2017/
LOCATION:Quality Hotel Saga
CATEGORIES:Konferanse
END:VEVENT
END:VCALENDAR